BEGIN:VCALENDAR
VERSION:2.0
PRODID:-//Keep New Zealand Beautiful - ECPv6.10.1.1//NONSGML v1.0//EN
CALSCALE:GREGORIAN
METHOD:PUBLISH
X-WR-CALNAME:Keep New Zealand Beautiful
X-ORIGINAL-URL:https://www.knzb.org.nz
X-WR-CALDESC:Events for Keep New Zealand Beautiful
REFRESH-INTERVAL;VALUE=DURATION:PT1H
X-Robots-Tag:noindex
X-PUBLISHED-TTL:PT1H
BEGIN:VTIMEZONE
TZID:Pacific/Auckland
BEGIN:STANDARD
TZOFFSETFROM:+1300
TZOFFSETTO:+1200
TZNAME:NZST
DTSTART:20240406T140000
END:STANDARD
BEGIN:DAYLIGHT
TZOFFSETFROM:+1200
TZOFFSETTO:+1300
TZNAME:NZDT
DTSTART:20240928T140000
END:DAYLIGHT
END:VTIMEZONE
BEGIN:VEVENT
DTSTART;TZID=Pacific/Auckland:20240504T090000
DTEND;TZID=Pacific/Auckland:20240504T110000
DTSTAMP:20260422T201422
CREATED:20240422T024533Z
LAST-MODIFIED:20240422T024537Z
UID:22529-1714813200-1714820400@www.knzb.org.nz
SUMMARY:Porirua Community Group Clean Up
DESCRIPTION:Come and clean up litter around the Harbour before it gets swept into our waterways and makes it out into the ocean. \n\n\n\nMeet on the grassy reserve along Wi Neera Drive\, next to the Harbour playground.
URL:https://www.knzb.org.nz/event/porirua-community-group-clean-up/
LOCATION:Porirua Harbour Playground\, 3 Wi Neera Drive\, Porirua\, 5022\, New Zealand
CATEGORIES:Community Clean Up
ATTACH;FMTTYPE=image/png:https://www.knzb.org.nz/wp-content/uploads/2024/04/Keep-Porirua-Harbour-Beautiful.png
ORGANIZER;CN="Porirua Community Group":MAILTO:Jdow31@gmail.com
END:VEVENT
END:VCALENDAR