BEGIN:VCALENDAR
VERSION:2.0
PRODID:-//Keep New Zealand Beautiful - ECPv6.10.1.1//NONSGML v1.0//EN
CALSCALE:GREGORIAN
METHOD:PUBLISH
X-WR-CALNAME:Keep New Zealand Beautiful
X-ORIGINAL-URL:https://www.knzb.org.nz
X-WR-CALDESC:Events for Keep New Zealand Beautiful
REFRESH-INTERVAL;VALUE=DURATION:PT1H
X-Robots-Tag:noindex
X-PUBLISHED-TTL:PT1H
BEGIN:VTIMEZONE
TZID:Pacific/Auckland
BEGIN:STANDARD
TZOFFSETFROM:+1300
TZOFFSETTO:+1200
TZNAME:NZST
DTSTART:20230401T140000
END:STANDARD
BEGIN:DAYLIGHT
TZOFFSETFROM:+1200
TZOFFSETTO:+1300
TZNAME:NZDT
DTSTART:20230923T140000
END:DAYLIGHT
END:VTIMEZONE
BEGIN:VEVENT
DTSTART;TZID=Pacific/Auckland:20230917T110000
DTEND;TZID=Pacific/Auckland:20230917T123000
DTSTAMP:20260423T073435
CREATED:20230827T222358Z
LAST-MODIFIED:20230827T222401Z
UID:20808-1694948400-1694953800@www.knzb.org.nz
SUMMARY:Picton Spring Clean
DESCRIPTION:Join Envirohub Marlborough and Waikawa Dive Centre in our annual Picton Spring Clean! We aim to tackle land and sea – concentrating on our beautiful coastline this year as a part of International Coastal Clean Up Day and New Zealand Clean Up Week!  \nJoin us under the Coathanger Bridge (town side) – look for our Zero Waste dishwashing trailer and the Event sign! Registrations open for the land and coastal clean up at around 10:45am. If you would like to join the dive teams headed out into the Sound\, please contact Waikawa Dive Centre at: waikawadive@xtra.co.nz.  \nFree BBQ and spot prizes for attendees on the day! Bring water\, gloves and some energy and we’ll see you there!
URL:https://www.knzb.org.nz/event/picton-spring-clean/
LOCATION:Picton Marina – Coathanger Bridge (town side)\, Wellington Street entrance\, Picton\, 7220
CATEGORIES:Clean Up Week 2023,Community Clean Up
ATTACH;FMTTYPE=image/png:https://www.knzb.org.nz/wp-content/uploads/2023/08/Picton-Spring-Clean-poster-2023.png
ORGANIZER;CN="Envirohub Marlborough":MAILTO:info@envirohub.co.nz
END:VEVENT
END:VCALENDAR