BEGIN:VCALENDAR
VERSION:2.0
PRODID:-//Keep New Zealand Beautiful - ECPv6.10.1.1//NONSGML v1.0//EN
CALSCALE:GREGORIAN
METHOD:PUBLISH
X-WR-CALNAME:Keep New Zealand Beautiful
X-ORIGINAL-URL:https://www.knzb.org.nz
X-WR-CALDESC:Events for Keep New Zealand Beautiful
REFRESH-INTERVAL;VALUE=DURATION:PT1H
X-Robots-Tag:noindex
X-PUBLISHED-TTL:PT1H
BEGIN:VTIMEZONE
TZID:Pacific/Auckland
BEGIN:STANDARD
TZOFFSETFROM:+1300
TZOFFSETTO:+1200
TZNAME:NZST
DTSTART:20240406T140000
END:STANDARD
BEGIN:DAYLIGHT
TZOFFSETFROM:+1200
TZOFFSETTO:+1300
TZNAME:NZDT
DTSTART:20240928T140000
END:DAYLIGHT
END:VTIMEZONE
BEGIN:VEVENT
DTSTART;TZID=Pacific/Auckland:20240201T100000
DTEND;TZID=Pacific/Auckland:20240201T113000
DTSTAMP:20260422T230855
CREATED:20240122T000603Z
LAST-MODIFIED:20240122T002509Z
UID:22116-1706781600-1706787000@www.knzb.org.nz
SUMMARY:Eastern Beach Reserve Community Upstream Battle
DESCRIPTION:The Summer school holidays have been a time to enjoy our favourite parks\, playgrounds\, beaches\, and shared public spaces. As the school holidays draw to a close\, Keep New Zealand Beautiful would like to give some love back to these spaces we’ve enjoyed\, by facilitating a couple of Upstream Battles in the East Auckland area.  \n\n\n\nThese Battles will involve: – Collecting litter – Sorting and categorising litter – Removal and correct disposal of litter \n\n\n\nAs well as being unsightly and unsanitary\, litter poses a threat to wildlife on land and at sea. To keep this litter from reaching our precious oceans\, we need to pick it up and dispose of it correctly while it is still on land. That is where you come in! \n\n\n\nKeep New Zealand Beautiful will provide the rubbish bags and gloves\, as well as having a photo set up and stickers\, and M&Ms to give away. \n\n\n\nIf you would like to join us please use the RSVP function below or email lauren@knzb.org.nz with the ‘Eastern Beach Reserve’ in the subject line. Please include your name and the number of adults and children that will be joining in the clean-up. \n\n\n\nWe look forward to seeing you there and working together to Keep New Zealand Beautiful. \n\n\n\nMeeting point: Please meet in the carpark at the southern end of The Esplanade.
URL:https://www.knzb.org.nz/event/eastern-beach-reserve-community-upstream-battle/
LOCATION:Eastern Beach\, The Esplanade\, Eastern Beach\, 2012\, New Zealand
CATEGORIES:Auckland,Community Clean Up,Community Event,Upstream Battle
ATTACH;FMTTYPE=image/jpeg:https://www.knzb.org.nz/wp-content/uploads/2024/01/Upstream-Battle-Website-event-tile_400x220.jpg
ORGANIZER;CN="Keep New Zealand Beautiful":MAILTO:lauren@knzb.org.nz
END:VEVENT
END:VCALENDAR