BEGIN:VCALENDAR
VERSION:2.0
PRODID:-//Keep New Zealand Beautiful - ECPv6.10.1.1//NONSGML v1.0//EN
CALSCALE:GREGORIAN
METHOD:PUBLISH
X-WR-CALNAME:Keep New Zealand Beautiful
X-ORIGINAL-URL:https://www.knzb.org.nz
X-WR-CALDESC:Events for Keep New Zealand Beautiful
REFRESH-INTERVAL;VALUE=DURATION:PT1H
X-Robots-Tag:noindex
X-PUBLISHED-TTL:PT1H
BEGIN:VTIMEZONE
TZID:Pacific/Auckland
BEGIN:STANDARD
TZOFFSETFROM:+1300
TZOFFSETTO:+1200
TZNAME:NZST
DTSTART:20230401T140000
END:STANDARD
BEGIN:DAYLIGHT
TZOFFSETFROM:+1200
TZOFFSETTO:+1300
TZNAME:NZDT
DTSTART:20230923T140000
END:DAYLIGHT
END:VTIMEZONE
BEGIN:VEVENT
DTSTART;TZID=Pacific/Auckland:20230125T100000
DTEND;TZID=Pacific/Auckland:20230125T123000
DTSTAMP:20260423T175657
CREATED:20230123T012711Z
LAST-MODIFIED:20230123T012714Z
UID:19046-1674640800-1674649800@www.knzb.org.nz
SUMMARY:Maunga Clean Up Turoa 2023
DESCRIPTION:Grab your pick-sticks and rubbish bags and join Project Tongariro for a half-day clearing the slopes around the Turoa Ski Field of rubbish and litter.  \n\n\n\nBring along your friends and little ones and help care for the maunga. \n\n\n\nTrip length: 2-2.5 Hours\nMinimum age: All ages. 0-15 years with adult supervision\nMax participants: No limit\nMeeting place: Tūroa Ski Field\, Ohakune Mountain Road\, Tūroa\, Mt Ruapehu\nCost: free. Book now to receive reminder event notifications\n\nPARTICIPANTS ARE ASKED TO BRING: \n\nAppropriate footwear (e.g. hiking boots) for walking on volcanic rock and uneven ground\nWater and snacks\nSunscreen/sunhat/sunglasses\nWindproof jacket\nMobile phone\n\nPlease note: the trip leader reserves the right to refuse anyone who is insufficiently equipped. Cancellation weather dependent.
URL:https://www.knzb.org.nz/event/maunga-clean-up-turoa-2023/
CATEGORIES:Community Clean Up
ATTACH;FMTTYPE=image/jpeg:https://www.knzb.org.nz/wp-content/uploads/2023/01/Project-Tongariro.jpg
END:VEVENT
END:VCALENDAR