BEGIN:VCALENDAR
VERSION:2.0
PRODID:-//Keep New Zealand Beautiful - ECPv6.10.1.1//NONSGML v1.0//EN
CALSCALE:GREGORIAN
METHOD:PUBLISH
X-WR-CALNAME:Keep New Zealand Beautiful
X-ORIGINAL-URL:https://www.knzb.org.nz
X-WR-CALDESC:Events for Keep New Zealand Beautiful
REFRESH-INTERVAL;VALUE=DURATION:PT1H
X-Robots-Tag:noindex
X-PUBLISHED-TTL:PT1H
BEGIN:VTIMEZONE
TZID:Pacific/Auckland
BEGIN:STANDARD
TZOFFSETFROM:+1300
TZOFFSETTO:+1200
TZNAME:NZST
DTSTART:20210403T140000
END:STANDARD
BEGIN:DAYLIGHT
TZOFFSETFROM:+1200
TZOFFSETTO:+1300
TZNAME:NZDT
DTSTART:20210925T140000
END:DAYLIGHT
END:VTIMEZONE
BEGIN:VEVENT
DTSTART;TZID=Pacific/Auckland:20210814T140000
DTEND;TZID=Pacific/Auckland:20210814T160000
DTSTAMP:20260424T181708
CREATED:20210805T222718Z
LAST-MODIFIED:20210805T224533Z
UID:13269-1628949600-1628956800@www.knzb.org.nz
SUMMARY:Keep Hamilton Beautiful Clean Up Event
DESCRIPTION:Come along and join Keep Hamilton Beautiful to do a clean up in Bader. Our awesome sponsors Purpose Fill will be there to provide the skip. Come along yourself\, or with friends. Bring gloves with you\, and pickers (old kitchen tongs if you no longer need them).  \n\n\n\n*If you have Tetra Paks – you can bring these along to drop off to Anna.
URL:https://www.knzb.org.nz/event/keep-hamilton-beautiful-clean-up-event/
LOCATION:Sanford Park\, Corner Bader and Norrie Street\, Bader\, 3206\, New Zealand
CATEGORIES:Community Clean Up
ATTACH;FMTTYPE=image/jpeg:https://www.knzb.org.nz/wp-content/uploads/2021/04/Keep-Hamilton-Beautiful-web-logo.jpg
ORGANIZER;CN="Keep Hamilton Beautiful":MAILTO:keephamiltonbeautiful@gmail.com
END:VEVENT
BEGIN:VEVENT
DTSTART;TZID=Pacific/Auckland:20210816T090000
DTEND;TZID=Pacific/Auckland:20210816T120000
DTSTAMP:20260424T181708
CREATED:20210803T002553Z
LAST-MODIFIED:20210803T002556Z
UID:13209-1629104400-1629115200@www.knzb.org.nz
SUMMARY:Keep Alexandra & Clyde Beautiful - Tree planting and tidy up
DESCRIPTION:The event will take place at the Central Otago Rail Trail between Molyneux Park and Chicago Street. Meet at the Industry Lane Café.
URL:https://www.knzb.org.nz/event/keep-alexandra-clyde-beautiful-tree-planting-and-tidy-up/
LOCATION:Otago Central Otago Rail Trail\, Dunstan Road\, Alexandra\, 9320\, New Zealand
CATEGORIES:Community Clean Up
ATTACH;FMTTYPE=image/jpeg:https://www.knzb.org.nz/wp-content/uploads/2021/08/KACB-web-logo.jpg
ORGANIZER;CN="Keep Alexandra & Clyde Beautiful":MAILTO:d.beer1308@gmail.com
END:VEVENT
END:VCALENDAR