BEGIN:VCALENDAR
VERSION:2.0
PRODID:-//Keep New Zealand Beautiful - ECPv6.10.1.1//NONSGML v1.0//EN
CALSCALE:GREGORIAN
METHOD:PUBLISH
X-WR-CALNAME:Keep New Zealand Beautiful
X-ORIGINAL-URL:https://www.knzb.org.nz
X-WR-CALDESC:Events for Keep New Zealand Beautiful
REFRESH-INTERVAL;VALUE=DURATION:PT1H
X-Robots-Tag:noindex
X-PUBLISHED-TTL:PT1H
BEGIN:VTIMEZONE
TZID:Pacific/Auckland
BEGIN:STANDARD
TZOFFSETFROM:+1300
TZOFFSETTO:+1200
TZNAME:NZST
DTSTART:20210403T140000
END:STANDARD
BEGIN:DAYLIGHT
TZOFFSETFROM:+1200
TZOFFSETTO:+1300
TZNAME:NZDT
DTSTART:20210925T140000
END:DAYLIGHT
END:VTIMEZONE
BEGIN:VEVENT
DTSTART;TZID=Pacific/Auckland:20210508T083000
DTEND;TZID=Pacific/Auckland:20210508T123000
DTSTAMP:20260424T222730
CREATED:20210428T012943Z
LAST-MODIFIED:20210430T070801Z
UID:12067-1620462600-1620477000@www.knzb.org.nz
SUMMARY:Te Puhinui Big Clean
DESCRIPTION:Join Beautification Trust for a clean up at the Auckland Botanic Gardens.
URL:https://www.knzb.org.nz/event/te-puhinui-big-clean/
LOCATION:Auckland Botanic Gardens\, 177 Everglade Drive\, Totara Heights\, Auckland\, 2105\, New Zealand
CATEGORIES:Auckland,Branch Event,Community Clean Up
ATTACH;FMTTYPE=image/jpeg:https://www.knzb.org.nz/wp-content/uploads/2021/04/Beautification-Trust-web.jpg
END:VEVENT
BEGIN:VEVENT
DTSTART;TZID=Pacific/Auckland:20210508T140000
DTEND;TZID=Pacific/Auckland:20210508T160000
DTSTAMP:20260424T222730
CREATED:20210427T021326Z
LAST-MODIFIED:20210505T031220Z
UID:12076-1620482400-1620489600@www.knzb.org.nz
SUMMARY:Keep Hamilton Beautiful Clean Up
DESCRIPTION:Be part of the solution\, not the problem and join Keep Hamilton Beautiful for a litter clean up at Donny Park (Emerald Place)\, Chartwell\, Hamilton\, 3210. \n\n\n\n – Bring gloves\, tongs/pickers\, and an attitude to make this world a cleaner place. \n\n\n\n – The group cleans up together\, for as long as you have the time to give. \n\n\n\n – Rubbish gets picked up\, and you go home knowing you’ve positively impacted and influenced others and the planet! \n\n\n\n“Every small piece counts. If we all contribute\, we can make this world a cleaner place and positively influence others. Come on your own\, or come with friends or family\, we’d love to have you there.” Anna\, Keep Hamilton Beautiful  \n\n\n\nFor all event details\, sign up here. \n\n\n\nJoin Keep Hamilton Beautiful and be part of the solution here.
URL:https://www.knzb.org.nz/event/keep-hamilton-beautiful-enderley-community-centre-clean-up/
LOCATION:Donny Park\, 16 Emerald Place\, Hamilton\, 3210\, New Zealand
CATEGORIES:Branch Event,Community Clean Up
ATTACH;FMTTYPE=image/jpeg:https://www.knzb.org.nz/wp-content/uploads/2021/04/Keep-Hamilton-Beautiful_400x220-web.jpg
END:VEVENT
BEGIN:VEVENT
DTSTART;TZID=Pacific/Auckland:20210516T093000
DTEND;TZID=Pacific/Auckland:20210516T123000
DTSTAMP:20260424T222730
CREATED:20210420T215546Z
LAST-MODIFIED:20210502T221356Z
UID:12011-1621157400-1621168200@www.knzb.org.nz
SUMMARY:Keep North Shore Beautiful - Milford Beach Clean Up
DESCRIPTION:Join Keep North Shore Beautiful for a litter clean up of Milford Beach. Meet at the picnic table at the Milford Reserve end of the beach.  Parking is available and public toilets. Please bring your own bag to put rubbish into.
URL:https://www.knzb.org.nz/event/keep-north-shore-beautiful-milford-beach-clean-up/
LOCATION:Milford Beach\, Craig Road\, Auckland\, 0620\, New Zealand
CATEGORIES:Auckland,Branch Event,Community Clean Up
ATTACH;FMTTYPE=image/jpeg:https://www.knzb.org.nz/wp-content/uploads/2021/05/KNSB-web-logo.jpg
END:VEVENT
BEGIN:VEVENT
DTSTART;TZID=Pacific/Auckland:20210522T093000
DTEND;TZID=Pacific/Auckland:20210522T123000
DTSTAMP:20260424T222730
CREATED:20210428T015139Z
LAST-MODIFIED:20210430T070608Z
UID:12091-1621675800-1621686600@www.knzb.org.nz
SUMMARY:Keep Hutt Valley Beautiful - Silverstream Railway Station Clean Up
DESCRIPTION:Join Keep Keep Hutt Valley Beautiful\, along with Silverstream and Kiwirail\, for a litter clean up of the Silverstream Railway Station. Meet on the village side of the bridge over Hull’s Creek.  \n\n\n\nFind out more on the Keep Hutt Valley Beautiful Facebook page or RSVP here
URL:https://www.knzb.org.nz/event/keep-hutt-valley-beautiful-silverstream-railway-station-clean-up/
LOCATION:Silverstream Station\, Silverstream\, Upper Hutt\, 5019\, New Zealand
CATEGORIES:Branch Event,Community Clean Up
ATTACH;FMTTYPE=image/jpeg:https://www.knzb.org.nz/wp-content/uploads/2021/04/Keep-Hutt-Valley-Beautiful-web.jpg
END:VEVENT
BEGIN:VEVENT
DTSTART;TZID=Pacific/Auckland:20210529T094500
DTEND;TZID=Pacific/Auckland:20210529T120000
DTSTAMP:20260424T222730
CREATED:20210509T234530Z
LAST-MODIFIED:20210509T234533Z
UID:12199-1622281500-1622289600@www.knzb.org.nz
SUMMARY:Papakura Community Clean Up
DESCRIPTION:Let’s beautify Papakura. Are you ready?On the 29th of May 2021\, from 9:45 am -12 pm we’re getting together to clean\, sweep\, paint\, weed\, wash windows and pick up rubbish.As a BIG ‘thank you’ for all the hard work\, we plan to celebrate with a good old Kiwi BBQ\, free for all those who pitch in.Please wear closed in shoes and clothing suitable for painting and bring medication you may require (asthma\, allergies).Gloves\, hi-vis vests\, and all equipment will be provided.This is an eco-friendly event\, water & paper cups are provided\, please bring your own refillable drink bottle if you prefer.To register as a volunteer please get in contact with Paula via email paula@mbct.org.nz or (09) 269 4080. Please do advise if you are interested in attending so we can cater accordingly.We would like to thank our partners who make these events possible like Auckland Council\, Papakura Local Board\, The Papakura Business Association.Meet at 57 Wood St. Papakura by the Old School Building. Look our for our marquee.
URL:https://www.knzb.org.nz/event/papakura-community-clean-up/
LOCATION:Central Park\, 57 Wood Street\, Papakura\, 2110\, New Zealand
CATEGORIES:Auckland,Branch Event,Community Clean Up
ATTACH;FMTTYPE=image/jpeg:https://www.knzb.org.nz/wp-content/uploads/2021/04/Beautification-Trust-web.jpg
END:VEVENT
END:VCALENDAR