BEGIN:VCALENDAR
VERSION:2.0
PRODID:-//Keep New Zealand Beautiful - ECPv6.10.1.1//NONSGML v1.0//EN
CALSCALE:GREGORIAN
METHOD:PUBLISH
X-WR-CALNAME:Keep New Zealand Beautiful
X-ORIGINAL-URL:https://www.knzb.org.nz
X-WR-CALDESC:Events for Keep New Zealand Beautiful
REFRESH-INTERVAL;VALUE=DURATION:PT1H
X-Robots-Tag:noindex
X-PUBLISHED-TTL:PT1H
BEGIN:VTIMEZONE
TZID:Pacific/Auckland
BEGIN:STANDARD
TZOFFSETFROM:+1300
TZOFFSETTO:+1200
TZNAME:NZST
DTSTART:20230401T140000
END:STANDARD
BEGIN:DAYLIGHT
TZOFFSETFROM:+1200
TZOFFSETTO:+1300
TZNAME:NZDT
DTSTART:20230923T140000
END:DAYLIGHT
END:VTIMEZONE
BEGIN:VEVENT
DTSTART;TZID=Pacific/Auckland:20230916T080000
DTEND;TZID=Pacific/Auckland:20230922T170000
DTSTAMP:20260422T072649
CREATED:20230227T215357Z
LAST-MODIFIED:20230724T021533Z
UID:19289-1694851200-1695402000@www.knzb.org.nz
SUMMARY:Clean Up Week
DESCRIPTION:Join New Zealand’s largest movement against litter and take part in Clean Up Week 2023. \n\n\n\nClean Up Week provides a great opportunity for schools\, businesses\, community groups\, friends and families to get together\, collect litter and make a difference in their neighbourhood. \n\n\n\nIn 2022\, we had over 67\,400 volunteers who collected a total of 655 tonnes of waste over an area equivalent to 5\,751 rugby fields. Our most successful event ever!  \n\n\n\nGet involved and let’s make this year even bigger and better! \n\n\n\nClean Up Week will once again kick off on World Clean Up Day\, Saturday 16 September and run until 22 September 2023. Mark the dates in your diaries now and start planning your event. Registrations will open on our website in early July.
URL:https://www.knzb.org.nz/event/clean-up-week-2/
CATEGORIES:Clean Up Week,Clean Up Week 2023
ATTACH;FMTTYPE=image/jpeg:https://www.knzb.org.nz/wp-content/uploads/2023/02/CLE4851.jpg
ORGANIZER;CN="Keep New Zealand Beautiful":MAILTO:lauren@knzb.org.nz
END:VEVENT
END:VCALENDAR