BEGIN:VCALENDAR
VERSION:2.0
PRODID:-//Keep New Zealand Beautiful - ECPv6.10.1.1//NONSGML v1.0//EN
CALSCALE:GREGORIAN
METHOD:PUBLISH
X-WR-CALNAME:Keep New Zealand Beautiful
X-ORIGINAL-URL:https://www.knzb.org.nz
X-WR-CALDESC:Events for Keep New Zealand Beautiful
REFRESH-INTERVAL;VALUE=DURATION:PT1H
X-Robots-Tag:noindex
X-PUBLISHED-TTL:PT1H
BEGIN:VTIMEZONE
TZID:Pacific/Auckland
BEGIN:STANDARD
TZOFFSETFROM:+1300
TZOFFSETTO:+1200
TZNAME:NZST
DTSTART:20210403T140000
END:STANDARD
BEGIN:DAYLIGHT
TZOFFSETFROM:+1200
TZOFFSETTO:+1300
TZNAME:NZDT
DTSTART:20210925T140000
END:DAYLIGHT
END:VTIMEZONE
BEGIN:VEVENT
DTSTART;TZID=Pacific/Auckland:20211025T080000
DTEND;TZID=Pacific/Auckland:20211025T170000
DTSTAMP:20260423T185457
CREATED:20210218T225434Z
LAST-MODIFIED:20210901T004045Z
UID:10559-1635148800-1635181200@www.knzb.org.nz
SUMMARY:Clean Up Week 2021
DESCRIPTION:Join us for New Zealand’s largest clean up event. Find a local clean up event on our online calendar or register your event here.
URL:https://www.knzb.org.nz/event/clean-up-week-2021/
LOCATION:New Zealand\, New Zealand
CATEGORIES:Clean Up Week
ATTACH;FMTTYPE=image/jpeg:https://www.knzb.org.nz/wp-content/uploads/2021/02/CUW-2021-web-event-tile.jpg
END:VEVENT
END:VCALENDAR