BEGIN:VCALENDAR
VERSION:2.0
PRODID:-//Keep New Zealand Beautiful - ECPv6.10.1.1//NONSGML v1.0//EN
CALSCALE:GREGORIAN
METHOD:PUBLISH
X-WR-CALNAME:Keep New Zealand Beautiful
X-ORIGINAL-URL:https://www.knzb.org.nz
X-WR-CALDESC:Events for Keep New Zealand Beautiful
REFRESH-INTERVAL;VALUE=DURATION:PT1H
X-Robots-Tag:noindex
X-PUBLISHED-TTL:PT1H
BEGIN:VTIMEZONE
TZID:Pacific/Auckland
BEGIN:STANDARD
TZOFFSETFROM:+1300
TZOFFSETTO:+1200
TZNAME:NZST
DTSTART:20210403T140000
END:STANDARD
BEGIN:DAYLIGHT
TZOFFSETFROM:+1200
TZOFFSETTO:+1300
TZNAME:NZDT
DTSTART:20210925T140000
END:DAYLIGHT
END:VTIMEZONE
BEGIN:VEVENT
DTSTART;TZID=Pacific/Auckland:20210217T080000
DTEND;TZID=Pacific/Auckland:20210217T170000
DTSTAMP:20260424T030240
CREATED:20210118T204648Z
LAST-MODIFIED:20210119T231826Z
UID:10209-1613548800-1613581200@www.knzb.org.nz
SUMMARY:Test Organiser and Venue
DESCRIPTION:Test Organiser and Venue
URL:https://www.knzb.org.nz/event/test-organiser-and-venue/
LOCATION:Terabyte Office\, 2/25 Teed Street\, Auckland\, 1023\, New Zealand
CATEGORIES:Clean Up Week
ORGANIZER;CN="Sarah McG":MAILTO:sarah.mcgrath.nz@gmail.com
END:VEVENT
END:VCALENDAR