BEGIN:VCALENDAR
VERSION:2.0
PRODID:-//Keep New Zealand Beautiful - ECPv6.10.1.1//NONSGML v1.0//EN
CALSCALE:GREGORIAN
METHOD:PUBLISH
X-WR-CALNAME:Keep New Zealand Beautiful
X-ORIGINAL-URL:https://www.knzb.org.nz
X-WR-CALDESC:Events for Keep New Zealand Beautiful
REFRESH-INTERVAL;VALUE=DURATION:PT1H
X-Robots-Tag:noindex
X-PUBLISHED-TTL:PT1H
BEGIN:VTIMEZONE
TZID:Pacific/Auckland
BEGIN:STANDARD
TZOFFSETFROM:+1300
TZOFFSETTO:+1200
TZNAME:NZST
DTSTART:20210403T140000
END:STANDARD
BEGIN:DAYLIGHT
TZOFFSETFROM:+1200
TZOFFSETTO:+1300
TZNAME:NZDT
DTSTART:20210925T140000
END:DAYLIGHT
END:VTIMEZONE
BEGIN:VEVENT
DTSTART;TZID=Pacific/Auckland:20211113T093000
DTEND;TZID=Pacific/Auckland:20211113T120000
DTSTAMP:20260424T230649
CREATED:20210822T234211Z
LAST-MODIFIED:20210902T225148Z
UID:13709-1636795800-1636804800@www.knzb.org.nz
SUMMARY:Hobsonville Clean Up - Kano Way
DESCRIPTION:Meet at Kano way no 11 walkway from Tai Crescent to 25 Kano way and right hand side of road along the bush area down to 68 Kano Way . \nMeeting spot and Marquee at Kano site and all rubbish to be brought back to here.
URL:https://www.knzb.org.nz/event/hobsonville-clean-up-kano-way/
LOCATION:11 Kano Way\, 1 Kano Way\, Hobsonville\, 0618
CATEGORIES:Clean Up Week 2021
ATTACH;FMTTYPE=image/jpeg:https://www.knzb.org.nz/wp-content/uploads/2021/02/Community-event-web-tile-1.jpg
ORGANIZER;CN="Sean Harris":MAILTO:seanharrisrotary@gmail.co.nz
END:VEVENT
BEGIN:VEVENT
DTSTART;TZID=Pacific/Auckland:20211113T093000
DTEND;TZID=Pacific/Auckland:20211113T120000
DTSTAMP:20260424T230649
CREATED:20210927T031539Z
LAST-MODIFIED:20210927T031542Z
UID:14310-1636795800-1636804800@www.knzb.org.nz
SUMMARY:Rotary Clean up the Bays
DESCRIPTION:Join Rotary members and other public at Swann Beach Reserve on Saturday 13th of November 2021
URL:https://www.knzb.org.nz/event/rotary-clean-up-the-bays-3/
CATEGORIES:Clean Up Week 2021
ATTACH;FMTTYPE=image/jpeg:https://www.knzb.org.nz/wp-content/uploads/2021/02/Community-event-web-tile-1.jpg
ORGANIZER;CN="Warren Patterson":MAILTO:warpat@mac.com
END:VEVENT
BEGIN:VEVENT
DTSTART;TZID=Pacific/Auckland:20211113T100000
DTEND;TZID=Pacific/Auckland:20211113T120000
DTSTAMP:20260424T230649
CREATED:20211005T030231Z
LAST-MODIFIED:20211020T012520Z
UID:14836-1636797600-1636804800@www.knzb.org.nz
SUMMARY:Rotary Takapuna Beach Clean Up
DESCRIPTION:Clean up of Takapuna Beach to make it rubbish and glass free for summerMeet up Hauraki Road endPlease bring gloves and buckets and plastic bags if you have them
URL:https://www.knzb.org.nz/event/rotary-takapuna-beach-clean-up/
LOCATION:Takapuna beach\, Hauraki rd\, Auckland\, 0622
CATEGORIES:Clean Up Week 2021
ATTACH;FMTTYPE=image/jpeg:https://www.knzb.org.nz/wp-content/uploads/2021/08/Clean-Up-week.jpg
ORGANIZER;CN="Kerryanne seaton":MAILTO:Kerryanne.seaton@hotmail.co.nz
END:VEVENT
BEGIN:VEVENT
DTSTART;TZID=Pacific/Auckland:20211113T100000
DTEND;TZID=Pacific/Auckland:20211113T130000
DTSTAMP:20260424T230649
CREATED:20211006T213631Z
LAST-MODIFIED:20211107T213703Z
UID:14879-1636797600-1636808400@www.knzb.org.nz
SUMMARY:Henderson Rotary Clean Up
DESCRIPTION:Join us for this Clean Up Week event. \nMeeting point to be advised.
URL:https://www.knzb.org.nz/event/henderson-rotary-clean-up/
LOCATION:TBC\, Henderson\, 0610
CATEGORIES:Clean Up Week 2021
ATTACH;FMTTYPE=image/jpeg:https://www.knzb.org.nz/wp-content/uploads/2021/08/Clean-Up-week.jpg
ORGANIZER;CN="Henderson Rotary":MAILTO:riddell.family@xtra.co.nz
END:VEVENT
BEGIN:VEVENT
DTSTART;TZID=Pacific/Auckland:20211121T090000
DTEND;TZID=Pacific/Auckland:20211121T100000
DTSTAMP:20260424T230649
CREATED:20210812T231416Z
LAST-MODIFIED:20210812T231417Z
UID:13478-1637485200-1637488800@www.knzb.org.nz
SUMMARY:Wellsford Town Clean-Up
DESCRIPTION:Keep Wellsford Beautiful is a group of people striving to see our beautiful town preserved by actively collecting rubbish and bringing awareness to the problem. \nCome join us picking up rubbish around Wellsford town every third Sunday of the month\, 9-10 am. We provide rubbish picker-upper sticks (thanks to UMS)\, vinyl gloves\, and hi-vest vests (thanks to Mahurangi Wastebusters). If you feel unwell\, please for your safety and everyone else’s\, stay home. \nMeet behind The Owl at 9am and grab yourself a rubbish bag (or BYO bag to put the trash into)\, gloves\, and a rubbish picker upper stick too. \nStick around for a free cup of coffee and cakes after the cleanup at Caffe Cozy in Wellsford Town(kindly sponsored by a local business Balance Software). \nSpread the word! Hope to see you all there!
URL:https://www.knzb.org.nz/event/wellsford-town-clean-up-4/
LOCATION:Owl Community Hub\, 120 Rodney St\, Wellsford\, 0972\, Wellsford\, Wellsford\, 0972\, New Zealand
CATEGORIES:Clean Up Week 2021
ATTACH;FMTTYPE=image/jpeg:https://www.knzb.org.nz/wp-content/uploads/2021/08/IMG_4952.jpg
ORGANIZER;CN="Jerusha Tucker":MAILTO:jerusha.eden@gmail.com
END:VEVENT
END:VCALENDAR