BEGIN:VCALENDAR
VERSION:2.0
PRODID:-//Keep New Zealand Beautiful - ECPv6.10.1.1//NONSGML v1.0//EN
CALSCALE:GREGORIAN
METHOD:PUBLISH
X-WR-CALNAME:Keep New Zealand Beautiful
X-ORIGINAL-URL:https://www.knzb.org.nz
X-WR-CALDESC:Events for Keep New Zealand Beautiful
REFRESH-INTERVAL;VALUE=DURATION:PT1H
X-Robots-Tag:noindex
X-PUBLISHED-TTL:PT1H
BEGIN:VTIMEZONE
TZID:Pacific/Auckland
BEGIN:STANDARD
TZOFFSETFROM:+1300
TZOFFSETTO:+1200
TZNAME:NZST
DTSTART:20210403T140000
END:STANDARD
BEGIN:DAYLIGHT
TZOFFSETFROM:+1200
TZOFFSETTO:+1300
TZNAME:NZDT
DTSTART:20210925T140000
END:DAYLIGHT
END:VTIMEZONE
BEGIN:VEVENT
DTSTART;TZID=Pacific/Auckland:20211107T080000
DTEND;TZID=Pacific/Auckland:20211107T170000
DTSTAMP:20260424T123441
CREATED:20211105T002852Z
LAST-MODIFIED:20211105T002859Z
UID:15357-1636272000-1636304400@www.knzb.org.nz
SUMMARY:I care
DESCRIPTION:The Te Teko Residents Association has organised a clean up day for our town. Our event titled “I care” because we care about our town\, we care about our community\, we care about our whenua\, we care about our whanau and we want our community to show up and also say “I care”. We would love to see our community join in and care with us 🙂
URL:https://www.knzb.org.nz/event/i-care/
LOCATION:Te Teko Pavillion\, 72 State Highway 30\, Te Teko\, Whakatane\, 3192
CATEGORIES:Clean Up Week 2021
ATTACH;FMTTYPE=image/jpeg:https://www.knzb.org.nz/wp-content/uploads/2021/11/Te-Teko.jpg
ORGANIZER;CN="Yvonne Pryor":MAILTO:hekerangi11@gmail.com
END:VEVENT
BEGIN:VEVENT
DTSTART;TZID=Pacific/Auckland:20211107T090000
DTEND;TZID=Pacific/Auckland:20211107T130000
DTSTAMP:20260424T123441
CREATED:20210812T225459Z
LAST-MODIFIED:20211029T003559Z
UID:13430-1636275600-1636290000@www.knzb.org.nz
SUMMARY:Rotary Clean Up @ Kiwi North
DESCRIPTION:Volunteers will assist in preparing the unique heritage sight for the upcoming summer. Preparations will include painting fences\, fixing walkways\, cleanup of picnic tables\, repairing broken fences and getting the grass picnic area ready for the summer visitors. \nBring rubbish bins/bags for rubbish collection\, gloves\, work shoes/gumboots and a great attitude!! Meet up is at the Kiwi North carpark at Gate 2 at 9am. 
URL:https://www.knzb.org.nz/event/rotary-clean-up-kiwi-north/
LOCATION:Kiwi North\, 500 State Highway 14\, Maunu\, Whangarei\, 0112\, New Zealand
CATEGORIES:Clean Up Week 2021
ATTACH;FMTTYPE=image/jpeg:https://www.knzb.org.nz/wp-content/uploads/2021/02/Community-event-web-tile-1.jpg
ORGANIZER;CN="Mohammed Atiq":MAILTO:President.whangareicity@gmail.com
END:VEVENT
END:VCALENDAR