BEGIN:VCALENDAR
VERSION:2.0
PRODID:-//Keep New Zealand Beautiful - ECPv6.10.1.1//NONSGML v1.0//EN
CALSCALE:GREGORIAN
METHOD:PUBLISH
X-WR-CALNAME:Keep New Zealand Beautiful
X-ORIGINAL-URL:https://www.knzb.org.nz
X-WR-CALDESC:Events for Keep New Zealand Beautiful
REFRESH-INTERVAL;VALUE=DURATION:PT1H
X-Robots-Tag:noindex
X-PUBLISHED-TTL:PT1H
BEGIN:VTIMEZONE
TZID:Pacific/Auckland
BEGIN:STANDARD
TZOFFSETFROM:+1300
TZOFFSETTO:+1200
TZNAME:NZST
DTSTART:20210403T140000
END:STANDARD
BEGIN:DAYLIGHT
TZOFFSETFROM:+1200
TZOFFSETTO:+1300
TZNAME:NZDT
DTSTART:20210925T140000
END:DAYLIGHT
END:VTIMEZONE
BEGIN:VEVENT
DTSTART;TZID=Pacific/Auckland:20211025T090000
DTEND;TZID=Pacific/Auckland:20211031T190000
DTSTAMP:20260424T135545
CREATED:20210726T014353Z
LAST-MODIFIED:20210913T210856Z
UID:13114-1635152400-1635706800@www.knzb.org.nz
SUMMARY:Clean Up Our Neighbourhood
DESCRIPTION:Join our Clean Up Week 2021 event.
URL:https://www.knzb.org.nz/event/clean-up-our-neighbourhood/
LOCATION:Clean Up Our Neighbourhood – Marton\, 10 Dunsinane Place\, Marton\, 4710\, New Zealand
CATEGORIES:Clean Up Week 2021
ATTACH;FMTTYPE=image/jpeg:https://www.knzb.org.nz/wp-content/uploads/2021/02/Community-event-web-tile-1.jpg
ORGANIZER;CN="Keep Marton Beautiful":MAILTO:rick_clare4@hotmail.com
END:VEVENT
BEGIN:VEVENT
DTSTART;TZID=Pacific/Auckland:20211031T090000
DTEND;TZID=Pacific/Auckland:20211031T103000
DTSTAMP:20260424T135545
CREATED:20211027T202943Z
LAST-MODIFIED:20211027T202946Z
UID:15223-1635670800-1635676200@www.knzb.org.nz
SUMMARY:Clean up Patiti Point
DESCRIPTION:Clean up Patiti Point in Timaru Organised by the Timaru Suburban Lions
URL:https://www.knzb.org.nz/event/clean-up-patiti-point/
LOCATION:Patiti Point\, Patiti Point\, Timaru\, 7910
CATEGORIES:Clean Up Week 2021
ATTACH;FMTTYPE=image/jpeg:https://www.knzb.org.nz/wp-content/uploads/2021/10/caledonian-sports-ground-patiti-point-timaru-south-canterbury-south-BE4JHY.jpg
ORGANIZER;CN="Timaru Suburban Lions":MAILTO:liamegorman6@yahoo.co.nz
END:VEVENT
BEGIN:VEVENT
DTSTART;TZID=Pacific/Auckland:20211031T090000
DTEND;TZID=Pacific/Auckland:20211031T110000
DTSTAMP:20260424T135545
CREATED:20211021T225437Z
LAST-MODIFIED:20211021T225439Z
UID:15114-1635670800-1635678000@www.knzb.org.nz
SUMMARY:Parihaka clean up
DESCRIPTION:We’ve been here before and we’re coming back. avoiding the landslide areas\, we will be searching down the side banks around the carpark and below the lookout.\nWe need nimble people to scale the banks carefully.\nGloves\, buckets\, first aid and water will be provided. \nCovid restrictions will be implemented if necessary. We will have a Qr code to scan in and we will have disinfectant.\nif you are not well\,  please stay home and support us virtually by sharing the event.
URL:https://www.knzb.org.nz/event/parihaka-clean-up/
LOCATION:Parihaka\, Memorial Drive\, WHANGAREI\, 0110\, New Zealand
CATEGORIES:Clean Up Week 2021
ATTACH;FMTTYPE=image/jpeg:https://www.knzb.org.nz/wp-content/uploads/2021/10/20211006_172123-scaled.jpg
ORGANIZER;CN="Nicholas Connop":MAILTO:nconnop@hotmail.com
END:VEVENT
BEGIN:VEVENT
DTSTART;TZID=Pacific/Auckland:20211031T093000
DTEND;TZID=Pacific/Auckland:20211031T110000
DTSTAMP:20260424T135545
CREATED:20211019T233450Z
LAST-MODIFIED:20211019T233452Z
UID:15079-1635672600-1635678000@www.knzb.org.nz
SUMMARY:Clean Up - Silverstream Railway Bridge to the Landfill turnoff
DESCRIPTION:Join this Clean Up Week Event with Silverstream Lions Club and Keep Hutt Valley Beautiful.
URL:https://www.knzb.org.nz/event/clean-up-silverstream-railway-bridge-to-the-landfill-turnoff/
LOCATION:Silverstream Railway Bridge carpark\, Eastern Hutt Road\, Upper Hutt\, 5019
CATEGORIES:Clean Up Week 2021
ATTACH;FMTTYPE=image/jpeg:https://www.knzb.org.nz/wp-content/uploads/2021/08/Clean-Up-week.jpg
ORGANIZER;CN="Silverstream Lions Club and Keep Hutt Valley Beautiful":MAILTO:annawilsonfarrell@gmail.com
END:VEVENT
BEGIN:VEVENT
DTSTART;TZID=Pacific/Auckland:20211031T093000
DTEND;TZID=Pacific/Auckland:20211031T120000
DTSTAMP:20260424T135545
CREATED:20210924T043507Z
LAST-MODIFIED:20211020T234257Z
UID:14288-1635672600-1635681600@www.knzb.org.nz
SUMMARY:Sea Shepherd Beach Clean & Sausage Sizzle @ East End
DESCRIPTION:An increasing amount of plastic is entering the ocean and killing marine life at alarming rates. We can take direct action to reduce this problem by removing trash from beaches and important marine animal habitats.   Join our passionate volunteers as we work together with local communities to clean beaches and waterways around the country and raise awareness around the issue of marine plastic pollution. They are free to join\, family-friendly\, and inclusive; we love seeing children\, teens\, students of all ages\, adults\, and seniors come along and get involved with being part of the change our local communities and ecosystems need.  \nWe will be meeting at 9:30 AM near the Skate Park for a briefing.  Please bring gloves (reusable if possible) and your face mask. Clean-up bags will be provided.
URL:https://www.knzb.org.nz/event/sea-shepherd-beach-clean-east-end/
LOCATION:East End Beach\, Nobs Line\, Strandon\, New Plymouth\, 4312
CATEGORIES:Clean Up Week 2021
ATTACH;FMTTYPE=image/png:https://www.knzb.org.nz/wp-content/uploads/2021/09/Whale-logo.png
ORGANIZER;CN="Sea Shepherd New Zealand":MAILTO:crew@seashepherd.org
END:VEVENT
BEGIN:VEVENT
DTSTART;TZID=Pacific/Auckland:20211031T100000
DTEND;TZID=Pacific/Auckland:20211031T110000
DTSTAMP:20260424T135545
CREATED:20211004T204356Z
LAST-MODIFIED:20211004T204400Z
UID:14821-1635674400-1635678000@www.knzb.org.nz
SUMMARY:Waitaki Geopark- Campbells Bay Beach Clean Up
DESCRIPTION:Come and join us at Campbells Bay\, Kakanui for a Beach clean up. \nWaitaki Geopark welcomes all ages to attend and we will have spot prizes up for grabs for supporting the local clean up event. \nMore info to come!
URL:https://www.knzb.org.nz/event/waitaki-geopark-campbells-bay-beach-clean-up/
LOCATION:Campbells Bay\, 53/56 Harbour terrace\, Kakanui\, 9494
CATEGORIES:Clean Up Week 2021
ATTACH;FMTTYPE=image/jpeg:https://www.knzb.org.nz/wp-content/uploads/2021/08/Clean-Up-week.jpg
ORGANIZER;CN="Waitaki Geopark":MAILTO:info@whitestonegeopark.nz
END:VEVENT
BEGIN:VEVENT
DTSTART;TZID=Pacific/Auckland:20211031T100000
DTEND;TZID=Pacific/Auckland:20211031T113000
DTSTAMP:20260424T135545
CREATED:20211017T231650Z
LAST-MODIFIED:20211017T231656Z
UID:15006-1635674400-1635679800@www.knzb.org.nz
SUMMARY:Our Seas Our Future — Clean Up Week 2021 @ Oriental Bay
DESCRIPTION:Come to Oriental Bay and celebrate Keep New Zealand Beautiful’s Clean Up Week with Our Seas Our Future! Bring friends and pick up the most rubbish to win prizes from our partners.
URL:https://www.knzb.org.nz/event/our-seas-our-future-clean-up-week-2021-oriental-bay/
LOCATION:Oriental Bay (by the Rotunda)\, 245 Oriental Parade\, Wellington\, 6011
CATEGORIES:Clean Up Week 2021
ATTACH;FMTTYPE=image/jpeg:https://www.knzb.org.nz/wp-content/uploads/2021/10/244995192_465068824769994_2332283389988251736_n.jpeg
ORGANIZER;CN="Calvin Quigley":MAILTO:wellington@osof.org
END:VEVENT
BEGIN:VEVENT
DTSTART;TZID=Pacific/Auckland:20211031T100000
DTEND;TZID=Pacific/Auckland:20211031T120000
DTSTAMP:20260424T135545
CREATED:20210914T230408Z
LAST-MODIFIED:20210914T230411Z
UID:14147-1635674400-1635681600@www.knzb.org.nz
SUMMARY:Pick or Treat - Halloween Beach Clean Up
DESCRIPTION:Join us in cleaning up the lakefront in honour of Keep New Zealand Beautiful’s Clean Up Week!  \nClean Up Week may have been delayed\, but it only gives us an excuse to celebrate in an even more fun way – on Halloween! Come in costume and try trick or treating with a twist – pick or treating. Grab a jack-o-lantern bucket and hit the beach to clean up litter and any other treasures you may uncover! \nWe’ll meet on Redoubt St\, near the Float Plane\, and divide and conquer from there. All supplies will be provided and then you can choose to venture along the beach\, the town centre\, or lakefront footpath. Let’s clean up Taupo\, one piece of litter at a time! \nAt the end\, there will be treats to reward your hard work.
URL:https://www.knzb.org.nz/event/pick-or-treat-halloween-beach-clean-up/
LOCATION:Float Plane Carpark\, Redoubt St\, Taupo\, 3330\, New Zealand
CATEGORIES:Clean Up Week 2021
ATTACH;FMTTYPE=image/jpeg:https://www.knzb.org.nz/wp-content/uploads/2021/09/Pick-or-Treat-2.jpg
ORGANIZER;CN="Shannon Hanson":MAILTO:shanson@taupo.govt.nz
END:VEVENT
BEGIN:VEVENT
DTSTART;TZID=Pacific/Auckland:20211031T103000
DTEND;TZID=Pacific/Auckland:20211031T120000
DTSTAMP:20260424T135545
CREATED:20210721T002443Z
LAST-MODIFIED:20210913T033621Z
UID:13074-1635676200-1635681600@www.knzb.org.nz
SUMMARY:Keep St Albans Beautiful
DESCRIPTION:We will meet at English Park car park situated on Cranford Street. Group will break up and clean the full surroundings of English Park\, waterways and outside the local Primary School.\nNext we will cross at the lights situated outside English Park and walk down Cranford towards St Albans Park\, situated between Madras and Barbadoes Streets.\nThere will be a truck parked here that will remove all the litter collected.\nB.B.Q. will be included for all volunteers.\nIf possible\, please bring your own gloves ie. gardening ones are great.  If you have a sack or big bucket\, bring these along too.\nWe will have signage so you know what streets we are covering\, just follow the chalk markings.
URL:https://www.knzb.org.nz/event/keep-st-albans-beautiful/
LOCATION:English Park\, Cranford Street\, Christchurch\, 8014
CATEGORIES:Clean Up Week 2021
ATTACH;FMTTYPE=image/png:https://www.knzb.org.nz/wp-content/uploads/2021/07/122195294_821286271959693_700120032007397787_n.png
ORGANIZER;CN="Tidy Kiwi":MAILTO:maria@kiwilamb.nz
END:VEVENT
BEGIN:VEVENT
DTSTART;TZID=Pacific/Auckland:20211031T110000
DTEND;TZID=Pacific/Auckland:20211031T140000
DTSTAMP:20260424T135545
CREATED:20211019T231629Z
LAST-MODIFIED:20211019T231633Z
UID:15046-1635678000-1635688800@www.knzb.org.nz
SUMMARY:Hokio Beach Clean Up & Sausage Sizzle
DESCRIPTION:We’ll meet at Hokio Reserve on Tawhiti St and make our way through the dunes onto the beach cleaning up as we go. Horowhenua District Council will cook up some saussies for the end of the clean up. \nSome bags and gloves will be available\, however volunteers are encouraged to bring your own gear from home to keep our environmental footprint as minimal as possible
URL:https://www.knzb.org.nz/event/hokio-beach-clean-up-sausage-sizzle/
LOCATION:Hokio Beach\, Tawhiti St\, Hokio Beach\, Hokio\, 5510\, New Zealand
CATEGORIES:Clean Up Week 2021
ATTACH;FMTTYPE=image/jpeg:https://www.knzb.org.nz/wp-content/uploads/2021/10/CRT-TVs-Hokio.jpg
ORGANIZER;CN="Robert Stillwell":MAILTO:roberts@horowhenua.govt.nz
END:VEVENT
BEGIN:VEVENT
DTSTART;TZID=Pacific/Auckland:20211031T130000
DTEND;TZID=Pacific/Auckland:20211031T160000
DTSTAMP:20260424T135545
CREATED:20211021T232331Z
LAST-MODIFIED:20211021T232333Z
UID:15130-1635685200-1635696000@www.knzb.org.nz
SUMMARY:Keep Matatā Beautiful
DESCRIPTION:Let’s do our part to protect our Taiao by cleaning up some of the rubbish around our rohe
URL:https://www.knzb.org.nz/event/keep-matata-beautiful/
LOCATION:Drift Coffee\, 43/53 Arawa Street\, Matatā\, 3194
CATEGORIES:Clean Up Week 2021
ATTACH;FMTTYPE=image/jpeg:https://www.knzb.org.nz/wp-content/uploads/2021/08/Clean-Up-week.jpg
END:VEVENT
BEGIN:VEVENT
DTSTART;TZID=Pacific/Auckland:20211031T130000
DTEND;TZID=Pacific/Auckland:20211031T170000
DTSTAMP:20260424T135545
CREATED:20211021T235256Z
LAST-MODIFIED:20211021T235259Z
UID:15163-1635685200-1635699600@www.knzb.org.nz
SUMMARY:Rangitaiki Rangatira
DESCRIPTION:Join this Clean Up Week event.
URL:https://www.knzb.org.nz/event/rangitaiki-rangatira/
CATEGORIES:Clean Up Week 2021
ATTACH;FMTTYPE=image/jpeg:https://www.knzb.org.nz/wp-content/uploads/2021/08/Clean-Up-week.jpg
ORGANIZER;CN="Rangitaiki Community Board":MAILTO:Leeann.waaka76@gmail.com
END:VEVENT
BEGIN:VEVENT
DTSTART;TZID=Pacific/Auckland:20211031T140000
DTEND;TZID=Pacific/Auckland:20211031T180000
DTSTAMP:20260424T135545
CREATED:20210927T031214Z
LAST-MODIFIED:20210927T031754Z
UID:14306-1635688800-1635703200@www.knzb.org.nz
SUMMARY:Temuka Community Clean Up
DESCRIPTION:Hosted by the Temuka Girl Guides
URL:https://www.knzb.org.nz/event/community-clean-up/
LOCATION:Torepe Fields\, Torepe Field Temuka\, Temuka\, 7920
CATEGORIES:Clean Up Week 2021
ATTACH;FMTTYPE=image/jpeg:https://www.knzb.org.nz/wp-content/uploads/2021/02/Community-event-web-tile-1.jpg
ORGANIZER;CN="Sophie Davis":MAILTO:sophie.d@hotmail.co.nz
END:VEVENT
BEGIN:VEVENT
DTSTART;TZID=Pacific/Auckland:20211031T150000
DTEND;TZID=Pacific/Auckland:20211031T163000
DTSTAMP:20260424T135545
CREATED:20210719T024342Z
LAST-MODIFIED:20210905T233113Z
UID:12963-1635692400-1635697800@www.knzb.org.nz
SUMMARY:Alex Moore Park Clean Up
DESCRIPTION:We will meet at the Alex Moore Park carpark and have a sausage sizzle afterwards.\nAll welcome.\nPlease bring your own gloves if you have them.
URL:https://www.knzb.org.nz/event/alex-moore-park-clean-up/
LOCATION:Alex Moore Park\, Alex Moore Park\, Johnsonville\, Wellington\, 6037\, New Zealand
CATEGORIES:Clean Up Week 2021
ATTACH;FMTTYPE=image/jpeg:https://www.knzb.org.nz/wp-content/uploads/2021/07/alex_moore_park_16.jpg
ORGANIZER;CN="Simon Roper":MAILTO:csroper7@gmail.com
END:VEVENT
END:VCALENDAR