BEGIN:VCALENDAR
VERSION:2.0
PRODID:-//Keep New Zealand Beautiful - ECPv6.10.1.1//NONSGML v1.0//EN
CALSCALE:GREGORIAN
METHOD:PUBLISH
X-WR-CALNAME:Keep New Zealand Beautiful
X-ORIGINAL-URL:https://www.knzb.org.nz
X-WR-CALDESC:Events for Keep New Zealand Beautiful
REFRESH-INTERVAL;VALUE=DURATION:PT1H
X-Robots-Tag:noindex
X-PUBLISHED-TTL:PT1H
BEGIN:VTIMEZONE
TZID:Pacific/Auckland
BEGIN:STANDARD
TZOFFSETFROM:+1300
TZOFFSETTO:+1200
TZNAME:NZST
DTSTART:20210403T140000
END:STANDARD
BEGIN:DAYLIGHT
TZOFFSETFROM:+1200
TZOFFSETTO:+1300
TZNAME:NZDT
DTSTART:20210925T140000
END:DAYLIGHT
END:VTIMEZONE
BEGIN:VEVENT
DTSTART;TZID=Pacific/Auckland:20211025T090000
DTEND;TZID=Pacific/Auckland:20211031T190000
DTSTAMP:20260424T135028
CREATED:20210726T014353Z
LAST-MODIFIED:20210913T210856Z
UID:13114-1635152400-1635706800@www.knzb.org.nz
SUMMARY:Clean Up Our Neighbourhood
DESCRIPTION:Join our Clean Up Week 2021 event.
URL:https://www.knzb.org.nz/event/clean-up-our-neighbourhood/
LOCATION:Clean Up Our Neighbourhood – Marton\, 10 Dunsinane Place\, Marton\, 4710\, New Zealand
CATEGORIES:Clean Up Week 2021
ATTACH;FMTTYPE=image/jpeg:https://www.knzb.org.nz/wp-content/uploads/2021/02/Community-event-web-tile-1.jpg
ORGANIZER;CN="Keep Marton Beautiful":MAILTO:rick_clare4@hotmail.com
END:VEVENT
BEGIN:VEVENT
DTSTART;TZID=Pacific/Auckland:20211030T083000
DTEND;TZID=Pacific/Auckland:20211030T093000
DTSTAMP:20260424T135028
CREATED:20211029T001634Z
LAST-MODIFIED:20211029T001640Z
UID:15273-1635582600-1635586200@www.knzb.org.nz
SUMMARY:Silverfern Farms Pacific Whakatu Clean up
DESCRIPTION:We will meet at 8:30am in Silverfern Farms main carpark and clean up on Rangitane Road.
URL:https://www.knzb.org.nz/event/silverfern-farms-pacific-whakatu-clean-up/
LOCATION:Silverfern Farms Whakatu\, 97 Rangitane Road\, Hastings\, 4180\, New Zealand
CATEGORIES:Clean Up Week 2021
ATTACH;FMTTYPE=image/png:https://www.knzb.org.nz/wp-content/uploads/2021/10/LOGO.png
ORGANIZER;CN="Jess Nielsen":MAILTO:jessica.nielsen@silverfernfarms.co.nz
END:VEVENT
BEGIN:VEVENT
DTSTART;TZID=Pacific/Auckland:20211030T090000
DTEND;TZID=Pacific/Auckland:20211030T100000
DTSTAMP:20260424T135028
CREATED:20210804T035525Z
LAST-MODIFIED:20210914T224636Z
UID:13242-1635584400-1635588000@www.knzb.org.nz
SUMMARY:Whangamata Beach Clean Up
DESCRIPTION:The Whangamata Area School Enviro Group would like to invite you to help us clean up our beach \nJudged NZ’s best beach in 2018 and runner up in 2021\, Whangamata beach is our best asset\, and we would like to keep it that way. All community members and beach users are invited to attend this Community Event to take part in Keep New Zealand Beautiful’s Clean Up Week. \nPlease bring your own gloves and reusable bag to collect rubbish if you have them. We will have a small supply available to use if you forget your own\, however we would like to keep new resources used reduced to a minimum. \nWhere: Williamson Park\, WhangamataWhen: Saturday 18 September\, 8:30amWhat: Beach rubbish collection from Williamson Park\, along Whangamata beach in both directions\, also in and around Williamson Park
URL:https://www.knzb.org.nz/event/whangamata-beach-clean-up/
LOCATION:Whangamata Beach\, Williamson Park\, Whangamata\, 3620
CATEGORIES:Clean Up Week 2021
ATTACH;FMTTYPE=image/jpeg:https://www.knzb.org.nz/wp-content/uploads/2021/08/w5.jpg
ORGANIZER;CN="Rebecca Munden":MAILTO:rebeccam@whangamata.school.nz
END:VEVENT
BEGIN:VEVENT
DTSTART;TZID=Pacific/Auckland:20211030T100000
DTEND;TZID=Pacific/Auckland:20211030T120000
DTSTAMP:20260424T135028
CREATED:20210916T024931Z
LAST-MODIFIED:20210916T024934Z
UID:14195-1635588000-1635595200@www.knzb.org.nz
SUMMARY:Glen Eden Scout Group Keep New Zealand Beautiful Cleanup
DESCRIPTION:The Glen Eden Scout Group will be hosting a cleanup event as part of the Keep New Zealand Beautiful Campaign. If you would like to attend please bring your own gloves and a bucket.
URL:https://www.knzb.org.nz/event/glen-eden-scout-group-keep-new-zealand-beautiful-cleanup/
LOCATION:Glen Eden Scout Hall\, 122 Glendale Road\, Glen Eden\, Auckland 0602\, Auckland\, 0602\, New Zealand
CATEGORIES:Clean Up Week 2021
ATTACH;FMTTYPE=image/jpeg:https://www.knzb.org.nz/wp-content/uploads/2021/09/download.jpeg
ORGANIZER;CN="Stephen Archer":MAILTO:archeroriginals@gmail.com
END:VEVENT
BEGIN:VEVENT
DTSTART;TZID=Pacific/Auckland:20211030T100000
DTEND;TZID=Pacific/Auckland:20211030T130000
DTSTAMP:20260424T135028
CREATED:20210801T223400Z
LAST-MODIFIED:20210905T232858Z
UID:13182-1635588000-1635598800@www.knzb.org.nz
SUMMARY:Upper Hutt Girl Guiding Clean Up
DESCRIPTION:Meet at the carpark under the Silverstream rail bridge at 10am. We will walk north along the Hutt River (eastern side). \nThis event is being organised by the Rangers of Girl Guiding Upper Hutt. \nWe will provide rubbish bags and disposable gloves. \nEveryone is welcome\, pets included.
URL:https://www.knzb.org.nz/event/upper-hutt-girl-guiding-clean-up/
LOCATION:Silverstream Railway Bridge Carpark\, Eastern Hutt Road\, Upper Hutt\, 5019
CATEGORIES:Clean Up Week 2021
ATTACH;FMTTYPE=image/jpeg:https://www.knzb.org.nz/wp-content/uploads/2021/02/Community-event-web-tile-1.jpg
ORGANIZER;CN="Girl Guiding Upper Hutt":MAILTO:bunnzy@orcon.net.nz
END:VEVENT
BEGIN:VEVENT
DTSTART;TZID=Pacific/Auckland:20211030T100000
DTEND;TZID=Pacific/Auckland:20211030T130000
DTSTAMP:20260424T135028
CREATED:20210815T214921Z
LAST-MODIFIED:20210913T212120Z
UID:13492-1635588000-1635598800@www.knzb.org.nz
SUMMARY:Pauatahanui - Every Litter Bit Counts
DESCRIPTION:Come join us for our Keep New Zealand Beautiful Clean Up Week Pauatahanui community event. \nWe have found over the past couple of years that it is best to keep our event as flexible as possible so will set up a self-help table at our front door for our volunteers to rock up any time they can over the weekend.   \nPlease bring your own sturdy gloves\, buckets\, tongs – but we will have a few rubber gloves as well\, Council rubbish bags (for trash)\, feed sacks (for recycling – which you can leave and we will sort/wash)\, high-vis vest (1-2 per group if needed – please return).  \nHead out anywhere you choose – just be extra safe and avoid any roadways >50km. Then leave the trash collected inside our gate and we will have them taken away. \nFamily friendly suggestion: Bothamley Parkway https://poriruacity.govt.nz/discover-porirua/parks-and-reserves/bothamley-park-million-plant-park \nWe hope to have your help so we can finish up with a whole pile of trash that will go to the right place rather than littering our community!
URL:https://www.knzb.org.nz/event/pauatahanui-every-litter-bit-counts/
LOCATION:End of Carpark – Pauatahanui Lighthouse Cinemas\, 467 Paremata Road\, Porirua\, 5381
CATEGORIES:Clean Up Week 2021
ATTACH;FMTTYPE=image/jpeg:https://www.knzb.org.nz/wp-content/uploads/2021/08/20190913_162130-scaled.jpg
ORGANIZER;CN="Rhonda Gault":MAILTO:rhondalou@slingshot.co.nz
END:VEVENT
BEGIN:VEVENT
DTSTART;TZID=Pacific/Auckland:20211030T100000
DTEND;TZID=Pacific/Auckland:20211030T140000
DTSTAMP:20260424T135028
CREATED:20210815T212609Z
LAST-MODIFIED:20210908T001909Z
UID:13522-1635588000-1635602400@www.knzb.org.nz
SUMMARY:Leos Garden Clean Up 2021
DESCRIPTION:As warm weather is coming\, Leos Service Group will be holding a clean up at the Oamaru gardens on the 19th of September. This clean up is open to the public and we encourage all to come if you want to lend us a hand in making this paradise ready for summer. It will go from 10am to 2pm on Sunday. \nLeos is a youth-run service group that operates out of SKC Oamaru. Members of Leos\, alongside Lions Group\, will be managing the event to ensure that not only are we all having a good time\, but we are big efficient and working to remove as much rubbish as possible. This rubbish will then be taken to the Oamaru Refuse Transfer station and disposed of.
URL:https://www.knzb.org.nz/event/leos-garden-clean-up-2021/
LOCATION:Oamaru Public Gardens\, 17 Chelmer street\, Oamaru\, 9438
CATEGORIES:Clean Up Week 2021
ATTACH;FMTTYPE=image/jpeg:https://www.knzb.org.nz/wp-content/uploads/2021/08/unnamed.jpg
ORGANIZER;CN="Cushla Bridges":MAILTO:cbridges@stkevins.school.nz
END:VEVENT
BEGIN:VEVENT
DTSTART;TZID=Pacific/Auckland:20211030T100000
DTEND;TZID=Pacific/Auckland:20211030T140000
DTSTAMP:20260424T135028
CREATED:20211019T231928Z
LAST-MODIFIED:20211019T231930Z
UID:15050-1635588000-1635602400@www.knzb.org.nz
SUMMARY:Foxton Beach Clean Up & Sausage Sizzle
DESCRIPTION:We’ll meet at the Pinewood Road entrance to Foxton Beach and make our way through the dunes onto the beach cleaning up as we go. Horowhenua District Council will cook up some saussies for the end of the clean up. \nSome bags and gloves will be available\, however volunteers are encouraged to bring your own gear from home to keep our environmental footprint as minimal as possible
URL:https://www.knzb.org.nz/event/foxton-beach-clean-up-sausage-sizzle/
LOCATION:Foxton Beach\, Pinewood Road\, Foxton Beach\, 5510\, New Zealand
CATEGORIES:Clean Up Week 2021
ATTACH;FMTTYPE=image/jpeg:https://www.knzb.org.nz/wp-content/uploads/2021/10/CRT-TVs-Hokio-1.jpg
ORGANIZER;CN="Robert Stillwell":MAILTO:roberts@horowhenua.govt.nz
END:VEVENT
BEGIN:VEVENT
DTSTART;TZID=Pacific/Auckland:20211030T110000
DTEND;TZID=Pacific/Auckland:20211030T130000
DTSTAMP:20260424T135028
CREATED:20211007T031712Z
LAST-MODIFIED:20211007T031717Z
UID:14888-1635591600-1635598800@www.knzb.org.nz
SUMMARY:Town belt Rubbish Clean Up - Dunedin
DESCRIPTION:Lets get Trashed is collaborating with Keep Dunedin Beautiful this year to host a rubbish clean-up event! 🌏The aim of this clean up event is to keep our city beautiful while having as much fun as possible. 🌱 \nThe task is to collect as much rubbish as you can in a 2 hour period\, travelling on foot. Bring your mates along or join a group to work in. \nWe will provide some rubbish bags\, but are happy for some of you to bring your own\, if you have reuseable ones already in use. We recommend you bring gloves and or tongs to pick up rubbish. \nGroups that are the most successful on the day will receive spot prizes kindly donated from the Keep Dunedin Beautiful office 💛 \nFollowing Level 2 guidelines\, contact tracing\, mask-wearing\, and social distancing are essential 😊If you are planning on attending this event\, please fill out the Google form here. 
URL:https://www.knzb.org.nz/event/town-belt-rubbish-clean-up-dunedin/
LOCATION:Prospect Park\, 30 Lachlan Ave\, Dunedin\, 9016
CATEGORIES:Clean Up Week 2021
ATTACH;FMTTYPE=image/jpeg:https://www.knzb.org.nz/wp-content/uploads/2021/08/Clean-Up-week.jpg
ORGANIZER;CN="Kate Moss-Mason":MAILTO:katemossmason@gmail.com
END:VEVENT
BEGIN:VEVENT
DTSTART;TZID=Pacific/Auckland:20211030T123000
DTEND;TZID=Pacific/Auckland:20211030T160000
DTSTAMP:20260424T135028
CREATED:20210916T014144Z
LAST-MODIFIED:20210916T014148Z
UID:14184-1635597000-1635609600@www.knzb.org.nz
SUMMARY:Lucas Creek Clean Up event *COVID-19 Level 1 dependent
DESCRIPTION:Clean up event in Lucas Creek. \nThe clean up will happen on kayaks/canoes/SUP but you are welcome to do clean ups on land too and share your pictures with us on the event Facebook group or on our UH Ecology Network Facebook Group. \n*For clean ups on land\, you can freely dispose of the debris collected at the Constellation Drive Transfer Station* \nThis is a Greenhithe Ecology Network and Upper Harbour Ecology Network initiative supported by our community groups and partners (Living Whenuapai\, Habitat Hobsonville\, Herald Island Environmental Group\, Sustainable Paremoremo\, Centorian Reserve\, Kaipātiki Project\, Restore the Landing\, The Legends of the Environment\, Pest Free Coatesville) and Tauhinu Sea Scouts\, Sea Cleaners\, KASK and the Upper Harbour Local Board and Auckland Council. \nMeeting (departure) points for the clean up: \n– Meeting places A\,B\,C – BE READY ON THE WATER with your kayaks/boats by 12.30PM: \nA – Herald Island – the Landing Reserve Ramp\, 56/58 The Terrace\, Herald Island.B – Albany – Boat Ramp end of Wharf Rd\, by The Landing\, AlbanyC – Paremoremo – Atwood Road ramp\, Paremoremo \n– Meeting Place D – BE READY ON THE WATER BY 12.55PM: \nD – Greenhithe-Greenhithe Wharf\, end of Rame Rd (Rame Esplanade Reserve)\, Greenhithe.
URL:https://www.knzb.org.nz/event/lucas-creek-clean-up-event-covid-19-level-1-dependent/
LOCATION:Lucas Creek – Upper Waitematā Tāmaki Makaurau/Auckland – multiple departure sites – read description
CATEGORIES:Auckland,Clean Up Week 2021
ATTACH;FMTTYPE=image/png:https://www.knzb.org.nz/wp-content/uploads/2021/09/lucascreek_cleanup_reviewed4.png
ORGANIZER;CN="Upper Harbour Ecology Network":MAILTO:info@upperharbourecologynetwork.org
END:VEVENT
BEGIN:VEVENT
DTSTART;TZID=Pacific/Auckland:20211030T150000
DTEND;TZID=Pacific/Auckland:20211030T163000
DTSTAMP:20260424T135028
CREATED:20210728T230926Z
LAST-MODIFIED:20210905T233014Z
UID:13153-1635606000-1635611400@www.knzb.org.nz
SUMMARY:Whitby Cubs Clean Up!
DESCRIPTION:Whitby Cubs are organising a clean up of Adventure Park and the Whitby Lakes! \nMeet us at the Scout Hall and help us make Whitby cleaner!
URL:https://www.knzb.org.nz/event/whitby-cubs-clean-up/
LOCATION:Whtiby Scout Hall\, Adventure Park\, Whitby\, Porirua\, 5024
CATEGORIES:Clean Up Week 2021
ATTACH;FMTTYPE=image/jpeg:https://www.knzb.org.nz/wp-content/uploads/2021/07/Whitby-Lake.jpeg
ORGANIZER;CN="Will Whitehead":MAILTO:williamw.student@papakowhai.school.nz
END:VEVENT
END:VCALENDAR