BEGIN:VCALENDAR
VERSION:2.0
PRODID:-//Keep New Zealand Beautiful - ECPv6.10.1.1//NONSGML v1.0//EN
CALSCALE:GREGORIAN
METHOD:PUBLISH
X-WR-CALNAME:Keep New Zealand Beautiful
X-ORIGINAL-URL:https://www.knzb.org.nz
X-WR-CALDESC:Events for Keep New Zealand Beautiful
REFRESH-INTERVAL;VALUE=DURATION:PT1H
X-Robots-Tag:noindex
X-PUBLISHED-TTL:PT1H
BEGIN:VTIMEZONE
TZID:Pacific/Auckland
BEGIN:STANDARD
TZOFFSETFROM:+1300
TZOFFSETTO:+1200
TZNAME:NZST
DTSTART:20210403T140000
END:STANDARD
BEGIN:DAYLIGHT
TZOFFSETFROM:+1200
TZOFFSETTO:+1300
TZNAME:NZDT
DTSTART:20210925T140000
END:DAYLIGHT
END:VTIMEZONE
BEGIN:VEVENT
DTSTART;TZID=Pacific/Auckland:20211025T090000
DTEND;TZID=Pacific/Auckland:20211031T190000
DTSTAMP:20260424T135029
CREATED:20210726T014353Z
LAST-MODIFIED:20210913T210856Z
UID:13114-1635152400-1635706800@www.knzb.org.nz
SUMMARY:Clean Up Our Neighbourhood
DESCRIPTION:Join our Clean Up Week 2021 event.
URL:https://www.knzb.org.nz/event/clean-up-our-neighbourhood/
LOCATION:Clean Up Our Neighbourhood – Marton\, 10 Dunsinane Place\, Marton\, 4710\, New Zealand
CATEGORIES:Clean Up Week 2021
ATTACH;FMTTYPE=image/jpeg:https://www.knzb.org.nz/wp-content/uploads/2021/02/Community-event-web-tile-1.jpg
ORGANIZER;CN="Keep Marton Beautiful":MAILTO:rick_clare4@hotmail.com
END:VEVENT
BEGIN:VEVENT
DTSTART;TZID=Pacific/Auckland:20211029T090000
DTEND;TZID=Pacific/Auckland:20211029T140000
DTSTAMP:20260424T135030
CREATED:20210915T003316Z
LAST-MODIFIED:20210921T071234Z
UID:14176-1635498000-1635516000@www.knzb.org.nz
SUMMARY:Hanmer Springs Village Clean Up by Hanmer Springs Primary School
DESCRIPTION:Join our Clean Up Week 2021 event.
URL:https://www.knzb.org.nz/event/hsps-village-clean-up/
LOCATION:Hanmer Springs Village Centre\, Hanmer Springs\, 7334
CATEGORIES:Clean Up Week 2021
ATTACH;FMTTYPE=image/jpeg:https://www.knzb.org.nz/wp-content/uploads/2021/02/Community-event-web-tile-1.jpg
ORGANIZER;CN="Hanmer Springs Primary School":MAILTO:tommydeee@msn.com
END:VEVENT
BEGIN:VEVENT
DTSTART;TZID=Pacific/Auckland:20211029T093000
DTEND;TZID=Pacific/Auckland:20211029T143000
DTSTAMP:20260424T135030
CREATED:20210707T002656Z
LAST-MODIFIED:20210913T033007Z
UID:12772-1635499800-1635517800@www.knzb.org.nz
SUMMARY:CPS ECO WARRIORS
DESCRIPTION:Join us for our Clean Up Week 2021 event.
URL:https://www.knzb.org.nz/event/cps-eco-warriors/
LOCATION:Churchill Park Farm and Waterways\, 320/336 Riddell Road\, Glendowie\, 1071
CATEGORIES:Clean Up Week 2021
ATTACH;FMTTYPE=image/jpeg:https://www.knzb.org.nz/wp-content/uploads/2021/02/Community-event-web-tile-1.jpg
ORGANIZER;CN="Churchill Park":MAILTO:sharyno@churchillpark.school.nz
END:VEVENT
BEGIN:VEVENT
DTSTART;TZID=Pacific/Auckland:20211029T100000
DTEND;TZID=Pacific/Auckland:20211029T120000
DTSTAMP:20260424T135030
CREATED:20210810T080635Z
LAST-MODIFIED:20210909T231920Z
UID:13340-1635501600-1635508800@www.knzb.org.nz
SUMMARY:The In-Home Childcare Company Beach Clean Up
DESCRIPTION:We want to get as many of our little Kaitiaki (guardians of our land) involved to help\, and understand the value of protecting our natural environment. We’d LOVE to see you and your children!  \nMeet at The Flying Bean coffee box on Petone Esplanade (opposite Beach St). We’ll provide gloves\, buckets\, bags and of course hand sanitiser!
URL:https://www.knzb.org.nz/event/the-in-home-childcare-company-beach-clean-up/
LOCATION:Petone Beach\, The Esplanade\, Petone\, 5012
CATEGORIES:Clean Up Week 2021
ATTACH;FMTTYPE=image/jpeg:https://www.knzb.org.nz/wp-content/uploads/2021/08/Beach-Clean-up-2021-002.jpg
ORGANIZER;CN="The In-Home Childcare Company":MAILTO:rachel@tihcc.co.nz
END:VEVENT
BEGIN:VEVENT
DTSTART;TZID=Pacific/Auckland:20211029T100000
DTEND;TZID=Pacific/Auckland:20211029T120000
DTSTAMP:20260424T135030
CREATED:20211012T024341Z
LAST-MODIFIED:20211012T024344Z
UID:14902-1635501600-1635508800@www.knzb.org.nz
SUMMARY:Clean-Up Dallington
DESCRIPTION:Come along and lend a hand to give the suburb of Dallington and the red zone land that surrounds it a tidy up. Sadly some people see the red zone land and the streets around it as a dumping ground.
URL:https://www.knzb.org.nz/event/clean-up-dallington/
LOCATION:Dallington Trust Community Shop\, Corner of McBratney's and Gayhurst Roads\, Christchurch\, 8061\, New Zealand
CATEGORIES:Clean Up Week 2021
ATTACH;FMTTYPE=image/jpeg:https://www.knzb.org.nz/wp-content/uploads/2021/08/Clean-Up-week.jpg
ORGANIZER;CN="Helen Lee":MAILTO:bbanzeo@gmail.com
END:VEVENT
BEGIN:VEVENT
DTSTART;TZID=Pacific/Auckland:20211029T103000
DTEND;TZID=Pacific/Auckland:20211029T123000
DTSTAMP:20260424T135030
CREATED:20211028T072744Z
LAST-MODIFIED:20211028T072744Z
UID:15249-1635503400-1635510600@www.knzb.org.nz
SUMMARY:Waimakariri River Car Park Clean Up
DESCRIPTION:Join our Clean Up Week event
URL:https://www.knzb.org.nz/event/waimakariri-river-car-park-clean-up/
CATEGORIES:Clean Up Week 2021
ATTACH;FMTTYPE=image/jpeg:https://www.knzb.org.nz/wp-content/uploads/2021/02/Community-event-web-tile-1.jpg
ORGANIZER;CN="Advance Landscape Systems &amp%3Bamp%3B ECAN":MAILTO:greg@advancelandscape.co.nz
END:VEVENT
BEGIN:VEVENT
DTSTART;TZID=Pacific/Auckland:20211029T133000
DTEND;TZID=Pacific/Auckland:20211029T150000
DTSTAMP:20260424T135030
CREATED:20210707T003153Z
LAST-MODIFIED:20210913T032823Z
UID:12779-1635514200-1635519600@www.knzb.org.nz
SUMMARY:Goldfields Greenway Clean up
DESCRIPTION:Join us for our Clean Up Week 2021 event.
URL:https://www.knzb.org.nz/event/goldfields-greenway-clean-up/
LOCATION:Goldfields School\, Norwood Road\, Paeroa\, 3600\, New Zealand
CATEGORIES:Clean Up Week 2021
ATTACH;FMTTYPE=image/jpeg:https://www.knzb.org.nz/wp-content/uploads/2021/02/Community-event-web-tile-1.jpg
ORGANIZER;CN="Goldfields School":MAILTO:principal@goldfields.school.nz
END:VEVENT
BEGIN:VEVENT
DTSTART;TZID=Pacific/Auckland:20211029T140000
DTEND;TZID=Pacific/Auckland:20211029T170000
DTSTAMP:20260424T135030
CREATED:20211006T210304Z
LAST-MODIFIED:20211006T210308Z
UID:14865-1635516000-1635526800@www.knzb.org.nz
SUMMARY:Landpro Litter Loot
DESCRIPTION:We are the employees of Landpro in New Plymouth. We will be picking up rubbish at Marine Park Beach from 2pm-5pm. Anyone that is interested is welcome to join us!
URL:https://www.knzb.org.nz/event/landpro-litter-loot/
LOCATION:Marine Parade Park\, Waitara\, 4320
CATEGORIES:Clean Up Week 2021
ATTACH;FMTTYPE=image/png:https://www.knzb.org.nz/wp-content/uploads/2021/10/Landpro_Logo_Horizontal_RGB.png
ORGANIZER;CN="Charlene Harris":MAILTO:charlene@landpro.co.nz
END:VEVENT
BEGIN:VEVENT
DTSTART;TZID=Pacific/Auckland:20211029T151500
DTEND;TZID=Pacific/Auckland:20211029T161500
DTSTAMP:20260424T135030
CREATED:20211026T032738Z
LAST-MODIFIED:20211026T032741Z
UID:15199-1635520500-1635524100@www.knzb.org.nz
SUMMARY:Waitaki Harbour Clean Up!
DESCRIPTION:Join this Clean Up Week event.
URL:https://www.knzb.org.nz/event/waitaki-harbour-clean-up/
LOCATION:Galley Cafe (Meet Outside)\, 1 Esplanade Street\, Oamaru\, 9400
CATEGORIES:Clean Up Week 2021
ATTACH;FMTTYPE=image/jpeg:https://www.knzb.org.nz/wp-content/uploads/2021/08/Clean-Up-week.jpg
ORGANIZER;CN="Waitaki Girls High School Enviro Club":MAILTO:matildakingg@gmail.com
END:VEVENT
BEGIN:VEVENT
DTSTART;TZID=Pacific/Auckland:20211029T153000
DTEND;TZID=Pacific/Auckland:20211029T170000
DTSTAMP:20260424T135030
CREATED:20211014T033111Z
LAST-MODIFIED:20211018T231115Z
UID:14957-1635521400-1635526800@www.knzb.org.nz
SUMMARY:OTŪMOETAI Beach Clean
DESCRIPTION:Join us for this Clean Up Week Event
URL:https://www.knzb.org.nz/event/otumoetai-beach-clean/
LOCATION:Maxwells Road beach area / Kulim Park area\, Maxwells Road\, Tauranga\, 3110
CATEGORIES:Clean Up Week 2021
ATTACH;FMTTYPE=image/jpeg:https://www.knzb.org.nz/wp-content/uploads/2021/10/otumoetai-1.jpg
ORGANIZER;CN="N.E Events":MAILTO:kerrybollen01@gmail.com
END:VEVENT
END:VCALENDAR