BEGIN:VCALENDAR
VERSION:2.0
PRODID:-//Keep New Zealand Beautiful - ECPv6.10.1.1//NONSGML v1.0//EN
CALSCALE:GREGORIAN
METHOD:PUBLISH
X-WR-CALNAME:Keep New Zealand Beautiful
X-ORIGINAL-URL:https://www.knzb.org.nz
X-WR-CALDESC:Events for Keep New Zealand Beautiful
REFRESH-INTERVAL;VALUE=DURATION:PT1H
X-Robots-Tag:noindex
X-PUBLISHED-TTL:PT1H
BEGIN:VTIMEZONE
TZID:Pacific/Auckland
BEGIN:STANDARD
TZOFFSETFROM:+1300
TZOFFSETTO:+1200
TZNAME:NZST
DTSTART:20210403T140000
END:STANDARD
BEGIN:DAYLIGHT
TZOFFSETFROM:+1200
TZOFFSETTO:+1300
TZNAME:NZDT
DTSTART:20210925T140000
END:DAYLIGHT
END:VTIMEZONE
BEGIN:VEVENT
DTSTART;TZID=Pacific/Auckland:20210919T090000
DTEND;TZID=Pacific/Auckland:20211027T100000
DTSTAMP:20260424T135114
CREATED:20210812T230126Z
LAST-MODIFIED:20210812T230130Z
UID:13411-1632042000-1635328800@www.knzb.org.nz
SUMMARY:Wellsford Town Clean-Up
DESCRIPTION:Keep Wellsford Beautiful is a group of people striving to see our beautiful town preserved by actively collecting rubbish and bringing awareness to the problem. \nCome join us picking up rubbish around Wellsford town every third Sunday of the month\, 9-10 am. We provide rubbish picker-upper sticks (thanks to UMS)\, vinyl gloves\, and hi-vest vests (thanks to Mahurangi Wastebusters). If you feel unwell\, please for your safety and everyone else’s\, stay home. \nMeet behind The Owl at 9am and grab yourself a rubbish bag (or BYO bag to put the trash into)\, gloves\, and a rubbish picker upper stick too. \nStick around for a free cup of coffee and cakes after the cleanup at Caffe Cozy in Wellsford Town(kindly sponsored Balance Software). \nSpread the word! Hope to see you all there!
URL:https://www.knzb.org.nz/event/wellsford-town-clean-up/
LOCATION:Owl Community Hub\, 120 Rodney St\, Wellsford\, 0972\, Wellsford\, Wellsford\, 0972\, New Zealand
CATEGORIES:Clean Up Week 2021
ATTACH;FMTTYPE=image/jpeg:https://www.knzb.org.nz/wp-content/uploads/2021/08/IMG_4952.jpg
ORGANIZER;CN="Jerusha Tucker":MAILTO:jerusha.eden@gmail.com
END:VEVENT
BEGIN:VEVENT
DTSTART;TZID=Pacific/Auckland:20211025T090000
DTEND;TZID=Pacific/Auckland:20211031T190000
DTSTAMP:20260424T135114
CREATED:20210726T014353Z
LAST-MODIFIED:20210913T210856Z
UID:13114-1635152400-1635706800@www.knzb.org.nz
SUMMARY:Clean Up Our Neighbourhood
DESCRIPTION:Join our Clean Up Week 2021 event.
URL:https://www.knzb.org.nz/event/clean-up-our-neighbourhood/
LOCATION:Clean Up Our Neighbourhood – Marton\, 10 Dunsinane Place\, Marton\, 4710\, New Zealand
CATEGORIES:Clean Up Week 2021
ATTACH;FMTTYPE=image/jpeg:https://www.knzb.org.nz/wp-content/uploads/2021/02/Community-event-web-tile-1.jpg
ORGANIZER;CN="Keep Marton Beautiful":MAILTO:rick_clare4@hotmail.com
END:VEVENT
BEGIN:VEVENT
DTSTART;TZID=Pacific/Auckland:20211026T090000
DTEND;TZID=Pacific/Auckland:20211026T120000
DTSTAMP:20260424T135114
CREATED:20210726T041458Z
LAST-MODIFIED:20210901T230850Z
UID:13121-1635238800-1635249600@www.knzb.org.nz
SUMMARY:Otago Peninsula - Macandrew Bay Clean Up
DESCRIPTION:Come and join our amazing team from the Otago Peninsula Trust and Royal Albatross Centre. We will be gathering together to clean up our beautiful area of the Otago Peninsula from Glenfalloch Gardens to Macandrew Bay. \nWe will all meet at Glenfalloch Gardens car park at 9:00 am and then begin the clean up from there all the way to Macandrew Bay suburb. \nParking is available at Glenfalloch. \nWe hope to see you there.
URL:https://www.knzb.org.nz/event/otago-peninsula-macandrew-bay-clean-up/
LOCATION:Glenfalloch Gardens\, 430 Portobello Road\, Macandrew Bay\, Dunedin\, 9077
CATEGORIES:Clean Up Week 2021
ATTACH;FMTTYPE=image/jpeg:https://www.knzb.org.nz/wp-content/uploads/2021/07/CJMPhotography_Glenfalloch-Wharf_9517-scaled.jpg
ORGANIZER;CN="Chris McCormack":MAILTO:chris@albatross.org.nz
END:VEVENT
BEGIN:VEVENT
DTSTART;TZID=Pacific/Auckland:20211026T090000
DTEND;TZID=Pacific/Auckland:20211026T210000
DTSTAMP:20260424T135114
CREATED:20211021T235903Z
LAST-MODIFIED:20211021T235906Z
UID:15167-1635238800-1635282000@www.knzb.org.nz
SUMMARY:Keep Greater Green Island Beautiful Litter Collection Photo Competition
DESCRIPTION:Join this Clean Up Week event.
URL:https://www.knzb.org.nz/event/keep-greater-green-island-beautiful-litter-collection-photo-competition/
CATEGORIES:Clean Up Week 2021
ATTACH;FMTTYPE=image/jpeg:https://www.knzb.org.nz/wp-content/uploads/2021/08/Clean-Up-week.jpg
ORGANIZER;CN="Greater Green Island Community Network":MAILTO:alana@greatergreenisland.nz
END:VEVENT
BEGIN:VEVENT
DTSTART;TZID=Pacific/Auckland:20211026T160000
DTEND;TZID=Pacific/Auckland:20211026T180000
DTSTAMP:20260424T135114
CREATED:20211021T231143Z
LAST-MODIFIED:20211021T231146Z
UID:15121-1635264000-1635271200@www.knzb.org.nz
SUMMARY:Keep New Zealand Beautiful - Pahiatua Clean Up
DESCRIPTION:We’re picking up rubbish around the Pahiatua
URL:https://www.knzb.org.nz/event/keep-new-zealand-beautiful-pahiatua-clean-up/
LOCATION:Pahiatua Multisport Stadium\, 57 Huxley street\, Pahiatua\, 4941
CATEGORIES:Clean Up Week 2021
ATTACH;FMTTYPE=image/jpeg:https://www.knzb.org.nz/wp-content/uploads/2021/08/Clean-Up-week.jpg
ORGANIZER;CN="Eve Robin":MAILTO:18robine@tc.school.nz
END:VEVENT
END:VCALENDAR