BEGIN:VCALENDAR
VERSION:2.0
PRODID:-//Keep New Zealand Beautiful - ECPv6.10.1.1//NONSGML v1.0//EN
CALSCALE:GREGORIAN
METHOD:PUBLISH
X-WR-CALNAME:Keep New Zealand Beautiful
X-ORIGINAL-URL:https://www.knzb.org.nz
X-WR-CALDESC:Events for Keep New Zealand Beautiful
REFRESH-INTERVAL;VALUE=DURATION:PT1H
X-Robots-Tag:noindex
X-PUBLISHED-TTL:PT1H
BEGIN:VTIMEZONE
TZID:Pacific/Auckland
BEGIN:STANDARD
TZOFFSETFROM:+1300
TZOFFSETTO:+1200
TZNAME:NZST
DTSTART:20210403T140000
END:STANDARD
BEGIN:DAYLIGHT
TZOFFSETFROM:+1200
TZOFFSETTO:+1300
TZNAME:NZDT
DTSTART:20210925T140000
END:DAYLIGHT
END:VTIMEZONE
BEGIN:VEVENT
DTSTART;TZID=Pacific/Auckland:20210919T090000
DTEND;TZID=Pacific/Auckland:20211027T100000
DTSTAMP:20260424T135552
CREATED:20210812T230126Z
LAST-MODIFIED:20210812T230130Z
UID:13411-1632042000-1635328800@www.knzb.org.nz
SUMMARY:Wellsford Town Clean-Up
DESCRIPTION:Keep Wellsford Beautiful is a group of people striving to see our beautiful town preserved by actively collecting rubbish and bringing awareness to the problem. \nCome join us picking up rubbish around Wellsford town every third Sunday of the month\, 9-10 am. We provide rubbish picker-upper sticks (thanks to UMS)\, vinyl gloves\, and hi-vest vests (thanks to Mahurangi Wastebusters). If you feel unwell\, please for your safety and everyone else’s\, stay home. \nMeet behind The Owl at 9am and grab yourself a rubbish bag (or BYO bag to put the trash into)\, gloves\, and a rubbish picker upper stick too. \nStick around for a free cup of coffee and cakes after the cleanup at Caffe Cozy in Wellsford Town(kindly sponsored Balance Software). \nSpread the word! Hope to see you all there!
URL:https://www.knzb.org.nz/event/wellsford-town-clean-up/
LOCATION:Owl Community Hub\, 120 Rodney St\, Wellsford\, 0972\, Wellsford\, Wellsford\, 0972\, New Zealand
CATEGORIES:Clean Up Week 2021
ATTACH;FMTTYPE=image/jpeg:https://www.knzb.org.nz/wp-content/uploads/2021/08/IMG_4952.jpg
ORGANIZER;CN="Jerusha Tucker":MAILTO:jerusha.eden@gmail.com
END:VEVENT
BEGIN:VEVENT
DTSTART;TZID=Pacific/Auckland:20211025T090000
DTEND;TZID=Pacific/Auckland:20211025T163000
DTSTAMP:20260424T135552
CREATED:20210811T024257Z
LAST-MODIFIED:20210913T031656Z
UID:13397-1635152400-1635179400@www.knzb.org.nz
SUMMARY:Opotiki Clean Up Week 2021
DESCRIPTION:Join our Clean Up Week 2021 event.
URL:https://www.knzb.org.nz/event/opotiki-clean-up-week-2021/
LOCATION:Opotiki i-SITE\, 70 Bridge Street\, Opotiki\, 3122
CATEGORIES:Clean Up Week 2021
ATTACH;FMTTYPE=image/png:https://www.knzb.org.nz/wp-content/uploads/2021/08/Event-Clean-up-2021.png
ORGANIZER;CN="Opotiki i-SITE":MAILTO:infocentre@odc.govt.nz
END:VEVENT
BEGIN:VEVENT
DTSTART;TZID=Pacific/Auckland:20211025T090000
DTEND;TZID=Pacific/Auckland:20211031T190000
DTSTAMP:20260424T135552
CREATED:20210726T014353Z
LAST-MODIFIED:20210913T210856Z
UID:13114-1635152400-1635706800@www.knzb.org.nz
SUMMARY:Clean Up Our Neighbourhood
DESCRIPTION:Join our Clean Up Week 2021 event.
URL:https://www.knzb.org.nz/event/clean-up-our-neighbourhood/
LOCATION:Clean Up Our Neighbourhood – Marton\, 10 Dunsinane Place\, Marton\, 4710\, New Zealand
CATEGORIES:Clean Up Week 2021
ATTACH;FMTTYPE=image/jpeg:https://www.knzb.org.nz/wp-content/uploads/2021/02/Community-event-web-tile-1.jpg
ORGANIZER;CN="Keep Marton Beautiful":MAILTO:rick_clare4@hotmail.com
END:VEVENT
BEGIN:VEVENT
DTSTART;TZID=Pacific/Auckland:20211025T100000
DTEND;TZID=Pacific/Auckland:20211025T120000
DTSTAMP:20260424T135552
CREATED:20210922T033542Z
LAST-MODIFIED:20210922T033548Z
UID:14259-1635156000-1635163200@www.knzb.org.nz
SUMMARY:Horoi o te rohe
DESCRIPTION:Cleaning up our local area – We at Kinderen Preschool will be walking the area around Buller St and Octavious Place and cleaning up the litter that we find.  We will then take it back to the preschool at 31 Buller St and sort the rubbish into recyclable\, reusable and landfill rubbish.  We have a community recycling wall onsite and will be able to use this to help in sorting the rubbish into the correct channels.
URL:https://www.knzb.org.nz/event/horoi-o-te-rohe/
LOCATION:Kinderen Preschool\, 31 Buller Street\, New Plymouth\, 4312\, New Zealand
CATEGORIES:Clean Up Week 2021
ATTACH;FMTTYPE=image/jpeg:https://www.knzb.org.nz/wp-content/uploads/2021/02/Community-event-web-tile-1.jpg
ORGANIZER;CN="Trina Murray":MAILTO:kinderenb@xtra.co.nz
END:VEVENT
BEGIN:VEVENT
DTSTART;TZID=Pacific/Auckland:20211025T100000
DTEND;TZID=Pacific/Auckland:20211025T130000
DTSTAMP:20260424T135552
CREATED:20211017T232915Z
LAST-MODIFIED:20211017T232919Z
UID:15010-1635156000-1635166800@www.knzb.org.nz
SUMMARY:Riwaka Ditches to Motueka River
DESCRIPTION:Pick up litter along the roadway ditches to the Motueka bridge. If there is time clean up litter both sides of river by the Motueka bridge
URL:https://www.knzb.org.nz/event/riwaka-ditches-to-motueka-river/
LOCATION:Opposite Challenge Garage\, Main Rd\, Riwaka\, Motueka\, 7128\, New Zealand
CATEGORIES:Clean Up Week 2021
ATTACH;FMTTYPE=image/jpeg:https://www.knzb.org.nz/wp-content/uploads/2021/08/Clean-Up-week.jpg
ORGANIZER;CN="Nick Wiffen":MAILTO:nick.wiffen@physics.org
END:VEVENT
BEGIN:VEVENT
DTSTART;TZID=Pacific/Auckland:20211025T130000
DTEND;TZID=Pacific/Auckland:20211025T150000
DTSTAMP:20260424T135552
CREATED:20211005T030024Z
LAST-MODIFIED:20211005T030027Z
UID:14824-1635166800-1635174000@www.knzb.org.nz
SUMMARY:Mangakahia Valley Clean Up
DESCRIPTION:Meet at Titoki General Store on 25th October 2021 from 12.30 pm onwards. Bring your own gloves\, hi-viz and if possible rubbish bag. Please think of using alternative bags e.g. Dog food\, chicken food\, calf meal bags to minimize the environmental impact. Find your spot around the Mangakahia Valley and clean it up. Meet back at the shop from 2.30 pm onwards for a pie and drink. Prizes for most collected rubbish and most unusual find\nSee you on the 25th!
URL:https://www.knzb.org.nz/event/mangakahia-valley-clean-up/
LOCATION:Titoki General Store – Mangakahia Valley\, 1475 Mangakahia Road\, Titoki\, Whangarei\, 0172
CATEGORIES:Clean Up Week 2021
ATTACH;FMTTYPE=image/jpeg:https://www.knzb.org.nz/wp-content/uploads/2021/08/Clean-Up-week.jpg
ORGANIZER;CN="Birgit Meister":MAILTO:titokigeneralstore@gmail.com
END:VEVENT
BEGIN:VEVENT
DTSTART;TZID=Pacific/Auckland:20211025T180000
DTEND;TZID=Pacific/Auckland:20211025T200000
DTSTAMP:20260424T135552
CREATED:20210708T232326Z
LAST-MODIFIED:20210913T211013Z
UID:12936-1635184800-1635192000@www.knzb.org.nz
SUMMARY:Waitara Scouts Clean Up
DESCRIPTION:Join us for our Clean Up Week 2021 event.
URL:https://www.knzb.org.nz/event/waitara-scouts-clean-up/
LOCATION:Waitara Scouts\, 317 Leslie Street\, Waitara\, 4320\, New Zealand
CATEGORIES:Clean Up Week 2021
ATTACH;FMTTYPE=image/jpeg:https://www.knzb.org.nz/wp-content/uploads/2021/02/Community-event-web-tile-1.jpg
ORGANIZER;CN="Waitara Scouts":MAILTO:Seanchivers1@gmail.com
END:VEVENT
END:VCALENDAR