BEGIN:VCALENDAR
VERSION:2.0
PRODID:-//Keep New Zealand Beautiful - ECPv6.10.1.1//NONSGML v1.0//EN
CALSCALE:GREGORIAN
METHOD:PUBLISH
X-WR-CALNAME:Keep New Zealand Beautiful
X-ORIGINAL-URL:https://www.knzb.org.nz
X-WR-CALDESC:Events for Keep New Zealand Beautiful
REFRESH-INTERVAL;VALUE=DURATION:PT1H
X-Robots-Tag:noindex
X-PUBLISHED-TTL:PT1H
BEGIN:VTIMEZONE
TZID:Pacific/Auckland
BEGIN:STANDARD
TZOFFSETFROM:+1300
TZOFFSETTO:+1200
TZNAME:NZST
DTSTART:20210403T140000
END:STANDARD
BEGIN:DAYLIGHT
TZOFFSETFROM:+1200
TZOFFSETTO:+1300
TZNAME:NZDT
DTSTART:20210925T140000
END:DAYLIGHT
END:VTIMEZONE
BEGIN:VEVENT
DTSTART;TZID=Pacific/Auckland:20210919T090000
DTEND;TZID=Pacific/Auckland:20211027T100000
DTSTAMP:20260424T135019
CREATED:20210812T230126Z
LAST-MODIFIED:20210812T230130Z
UID:13411-1632042000-1635328800@www.knzb.org.nz
SUMMARY:Wellsford Town Clean-Up
DESCRIPTION:Keep Wellsford Beautiful is a group of people striving to see our beautiful town preserved by actively collecting rubbish and bringing awareness to the problem. \nCome join us picking up rubbish around Wellsford town every third Sunday of the month\, 9-10 am. We provide rubbish picker-upper sticks (thanks to UMS)\, vinyl gloves\, and hi-vest vests (thanks to Mahurangi Wastebusters). If you feel unwell\, please for your safety and everyone else’s\, stay home. \nMeet behind The Owl at 9am and grab yourself a rubbish bag (or BYO bag to put the trash into)\, gloves\, and a rubbish picker upper stick too. \nStick around for a free cup of coffee and cakes after the cleanup at Caffe Cozy in Wellsford Town(kindly sponsored Balance Software). \nSpread the word! Hope to see you all there!
URL:https://www.knzb.org.nz/event/wellsford-town-clean-up/
LOCATION:Owl Community Hub\, 120 Rodney St\, Wellsford\, 0972\, Wellsford\, Wellsford\, 0972\, New Zealand
CATEGORIES:Clean Up Week 2021
ATTACH;FMTTYPE=image/jpeg:https://www.knzb.org.nz/wp-content/uploads/2021/08/IMG_4952.jpg
ORGANIZER;CN="Jerusha Tucker":MAILTO:jerusha.eden@gmail.com
END:VEVENT
BEGIN:VEVENT
DTSTART;TZID=Pacific/Auckland:20211002T100000
DTEND;TZID=Pacific/Auckland:20211002T120000
DTSTAMP:20260424T135019
CREATED:20210804T010034Z
LAST-MODIFIED:20210908T001830Z
UID:13233-1633168800-1633176000@www.knzb.org.nz
SUMMARY:Bluff Street Clean Up
DESCRIPTION:Pick up roadside rubbish along all streets in Bluff\, including Bluff Hill
URL:https://www.knzb.org.nz/event/bluff-street-clean-up/
LOCATION:Bluff Service Centre\, 98 Gore Street\, Bluff\, 9814\, New Zealand
CATEGORIES:Clean Up Week 2021
ATTACH;FMTTYPE=image/jpeg:https://www.knzb.org.nz/wp-content/uploads/2021/02/Community-event-web-tile-1.jpg
ORGANIZER;CN="Sue Garland":MAILTO:garland.sue@gmail.com
END:VEVENT
BEGIN:VEVENT
DTSTART;TZID=Pacific/Auckland:20211002T100000
DTEND;TZID=Pacific/Auckland:20211002T130000
DTSTAMP:20260424T135019
CREATED:20210815T213445Z
LAST-MODIFIED:20210924T043010Z
UID:13510-1633168800-1633179600@www.knzb.org.nz
SUMMARY:Keep OTAUTAU Beautiful
DESCRIPTION:Come along to the Scout Den (191 Main Street\, Otautau) between 10am and 12noon on Saturday 18th September and choose an area of Otautau to clean up rubbish from. Bring your bags back to the den when you are done as our Scouts will also do a rubbish audit. Bags back by 1pm please. \nSome reusable bags and gloves may be available\, but please bring your own if possible. Gardening gloves are eco-friendly. Tongs will be handy too. \nThis event will be followed by one in Nightcaps on Sunday 3 October from 10am until 12pm. Meeting place to be confirmed.
URL:https://www.knzb.org.nz/event/keep-otautau-beautiful/
LOCATION:St Andrews Scout Den\, 191 Main Street\, Otautau\, 9610\, New Zealand
CATEGORIES:Clean Up Week 2021,Community Clean Up,Smaller Group Event
ATTACH;FMTTYPE=image/png:https://www.knzb.org.nz/wp-content/uploads/2021/08/Otautau-1.png
ORGANIZER;CN="Diane Fretter":MAILTO:scouter.dianef@gmail.com
END:VEVENT
END:VCALENDAR