BEGIN:VCALENDAR
VERSION:2.0
PRODID:-//Keep New Zealand Beautiful - ECPv6.10.1.1//NONSGML v1.0//EN
CALSCALE:GREGORIAN
METHOD:PUBLISH
X-WR-CALNAME:Keep New Zealand Beautiful
X-ORIGINAL-URL:https://www.knzb.org.nz
X-WR-CALDESC:Events for Keep New Zealand Beautiful
REFRESH-INTERVAL;VALUE=DURATION:PT1H
X-Robots-Tag:noindex
X-PUBLISHED-TTL:PT1H
BEGIN:VTIMEZONE
TZID:Pacific/Auckland
BEGIN:STANDARD
TZOFFSETFROM:+1300
TZOFFSETTO:+1200
TZNAME:NZST
DTSTART:20210403T140000
END:STANDARD
BEGIN:DAYLIGHT
TZOFFSETFROM:+1200
TZOFFSETTO:+1300
TZNAME:NZDT
DTSTART:20210925T140000
END:DAYLIGHT
END:VTIMEZONE
BEGIN:VEVENT
DTSTART;TZID=Pacific/Auckland:20210919T090000
DTEND;TZID=Pacific/Auckland:20211027T100000
DTSTAMP:20260424T152215
CREATED:20210812T230126Z
LAST-MODIFIED:20210812T230130Z
UID:13411-1632042000-1635328800@www.knzb.org.nz
SUMMARY:Wellsford Town Clean-Up
DESCRIPTION:Keep Wellsford Beautiful is a group of people striving to see our beautiful town preserved by actively collecting rubbish and bringing awareness to the problem. \nCome join us picking up rubbish around Wellsford town every third Sunday of the month\, 9-10 am. We provide rubbish picker-upper sticks (thanks to UMS)\, vinyl gloves\, and hi-vest vests (thanks to Mahurangi Wastebusters). If you feel unwell\, please for your safety and everyone else’s\, stay home. \nMeet behind The Owl at 9am and grab yourself a rubbish bag (or BYO bag to put the trash into)\, gloves\, and a rubbish picker upper stick too. \nStick around for a free cup of coffee and cakes after the cleanup at Caffe Cozy in Wellsford Town(kindly sponsored Balance Software). \nSpread the word! Hope to see you all there!
URL:https://www.knzb.org.nz/event/wellsford-town-clean-up/
LOCATION:Owl Community Hub\, 120 Rodney St\, Wellsford\, 0972\, Wellsford\, Wellsford\, 0972\, New Zealand
CATEGORIES:Clean Up Week 2021
ATTACH;FMTTYPE=image/jpeg:https://www.knzb.org.nz/wp-content/uploads/2021/08/IMG_4952.jpg
ORGANIZER;CN="Jerusha Tucker":MAILTO:jerusha.eden@gmail.com
END:VEVENT
BEGIN:VEVENT
DTSTART;TZID=Pacific/Auckland:20210919T100000
DTEND;TZID=Pacific/Auckland:20210919T120000
DTSTAMP:20260424T152215
CREATED:20210801T224633Z
LAST-MODIFIED:20210801T224635Z
UID:13194-1632045600-1632052800@www.knzb.org.nz
SUMMARY:Campbells Bay\, Kakanui - 2021 Beach Clean Up
DESCRIPTION:Join us for this Clean Up Week event
URL:https://www.knzb.org.nz/event/campbells-bay-kakanui-2021-beach-clean-up/
LOCATION:Campbell Bay Reserve\, 53/56 Harbour Terrace\, Kakanui\, Oamaru\, 9495
CATEGORIES:Clean Up Week 2021
ATTACH;FMTTYPE=image/jpeg:https://www.knzb.org.nz/wp-content/uploads/2021/02/Community-event-web-tile-1.jpg
ORGANIZER;CN="Waitaki Whitestone Geopark":MAILTO:Misha.dixon@outlook.com
END:VEVENT
BEGIN:VEVENT
DTSTART;TZID=Pacific/Auckland:20210919T133000
DTEND;TZID=Pacific/Auckland:20210919T153000
DTSTAMP:20260424T152215
CREATED:20210707T224733Z
LAST-MODIFIED:20210707T224737Z
UID:12864-1632058200-1632065400@www.knzb.org.nz
SUMMARY:New Plymouth Beach and Walkway Clean Up
DESCRIPTION:Cleaning up the beach and walkways to make New Plymouth litter free.
URL:https://www.knzb.org.nz/event/new-plymouth-beach-and-walkway-clean-up/
LOCATION:Gander and Carter\, 61a riversdale drive merrilands\, New Plymouth\, 4312\, New Zealand
CATEGORIES:Clean Up Week 2021
ATTACH;FMTTYPE=image/jpeg:https://www.knzb.org.nz/wp-content/uploads/2021/02/Community-event-web-tile-1.jpg
ORGANIZER;CN="Lesley gander":MAILTO:zigzagten@hotmail.com
END:VEVENT
END:VCALENDAR