BEGIN:VCALENDAR
VERSION:2.0
PRODID:-//Keep New Zealand Beautiful - ECPv6.10.1.1//NONSGML v1.0//EN
CALSCALE:GREGORIAN
METHOD:PUBLISH
X-WR-CALNAME:Keep New Zealand Beautiful
X-ORIGINAL-URL:https://www.knzb.org.nz
X-WR-CALDESC:Events for Keep New Zealand Beautiful
REFRESH-INTERVAL;VALUE=DURATION:PT1H
X-Robots-Tag:noindex
X-PUBLISHED-TTL:PT1H
BEGIN:VTIMEZONE
TZID:Pacific/Auckland
BEGIN:STANDARD
TZOFFSETFROM:+1300
TZOFFSETTO:+1200
TZNAME:NZST
DTSTART:20210403T140000
END:STANDARD
BEGIN:DAYLIGHT
TZOFFSETFROM:+1200
TZOFFSETTO:+1300
TZNAME:NZDT
DTSTART:20210925T140000
END:DAYLIGHT
END:VTIMEZONE
BEGIN:VEVENT
DTSTART;TZID=Pacific/Auckland:20210917T100000
DTEND;TZID=Pacific/Auckland:20210917T120000
DTSTAMP:20260424T152210
CREATED:20210719T023507Z
LAST-MODIFIED:20210719T023509Z
UID:12977-1631872800-1631880000@www.knzb.org.nz
SUMMARY:Petone Beach Clean Up
DESCRIPTION:Meet the team at The In-Home Childcare Company and join in our Annual Beach Clean up.\nWe want to get as many of our Kaitiaki (Guardians of the land) involved in cleaning up our very special Natural Environment.\nIf you’ve got a child who you’d love to bring along and teach them about the huge benefits of protecting our land then please feel free to meet us on\nFriday 17th August on Petone Beach (opposite Beach Street) @ 10am – next to The Flying Bean Coffee Container\nThis is a community event\, so everyone is welcome to join in.\nWe will have rubbish bags\, gloves and hand sanitisier available to everyone who participates.
URL:https://www.knzb.org.nz/event/petone-beach-clean-up/
LOCATION:The In-Home Childcare Company – Petone Beach Clean Up\, Petone Esplanade\, Opposite Beach Street\, Petone\, 5012\, New Zealand
CATEGORIES:Clean Up Week 2021
ATTACH;FMTTYPE=image/png:https://www.knzb.org.nz/wp-content/uploads/2021/07/Beach-Clean-up-2021.png
ORGANIZER;CN="Rachel Solomon":MAILTO:rachel@tihcc.co.nz
END:VEVENT
END:VCALENDAR