BEGIN:VCALENDAR
VERSION:2.0
PRODID:-//Keep New Zealand Beautiful - ECPv6.10.1.1//NONSGML v1.0//EN
CALSCALE:GREGORIAN
METHOD:PUBLISH
X-WR-CALNAME:Keep New Zealand Beautiful
X-ORIGINAL-URL:https://www.knzb.org.nz
X-WR-CALDESC:Events for Keep New Zealand Beautiful
REFRESH-INTERVAL;VALUE=DURATION:PT1H
X-Robots-Tag:noindex
X-PUBLISHED-TTL:PT1H
BEGIN:VTIMEZONE
TZID:Pacific/Auckland
BEGIN:STANDARD
TZOFFSETFROM:+1300
TZOFFSETTO:+1200
TZNAME:NZST
DTSTART:20210403T140000
END:STANDARD
BEGIN:DAYLIGHT
TZOFFSETFROM:+1200
TZOFFSETTO:+1300
TZNAME:NZDT
DTSTART:20210925T140000
END:DAYLIGHT
END:VTIMEZONE
BEGIN:VEVENT
DTSTART;TZID=Pacific/Auckland:20210915T083000
DTEND;TZID=Pacific/Auckland:20210915T093000
DTSTAMP:20260424T152321
CREATED:20210812T224735Z
LAST-MODIFIED:20210812T224736Z
UID:13439-1631694600-1631698200@www.knzb.org.nz
SUMMARY:Clean up your block & Keep NZ Beautiful
DESCRIPTION:Thames Library 305 Mackay Street Thames\n8:30 – 9:30 \nClean up around the library\, down Mackay Street & Service Lane.  Gloves\, rubbish bags and a recycling station will be available plus tea/coffee and biscuits to finish. \nAny queries please contact Shana Allan.
URL:https://www.knzb.org.nz/event/clean-up-your-block-keep-nz-beautiful/
CATEGORIES:Clean Up Week 2021
ATTACH;FMTTYPE=image/jpeg:https://www.knzb.org.nz/wp-content/uploads/2021/02/Community-event-web-tile-1.jpg
ORGANIZER;CN="Shana Allan":MAILTO:shana.allan@tcdc.govt.nz
END:VEVENT
BEGIN:VEVENT
DTSTART;TZID=Pacific/Auckland:20210915T112000
DTEND;TZID=Pacific/Auckland:20210915T123000
DTSTAMP:20260424T152321
CREATED:20210707T002805Z
LAST-MODIFIED:20210805T020007Z
UID:12775-1631704800-1631709000@www.knzb.org.nz
SUMMARY:Levin North Pick Up Crew
DESCRIPTION:Join us for our Clean Up Week 2021 event.
URL:https://www.knzb.org.nz/event/levin-north-pick-up-crew/
LOCATION:Levin North Pick Up Crew\, 148 Weraroa Road\, Levin\, 5510\, New Zealand
CATEGORIES:Clean Up Week 2021
ATTACH;FMTTYPE=image/jpeg:https://www.knzb.org.nz/wp-content/uploads/2021/02/Community-event-web-tile-1.jpg
ORGANIZER;CN="Levin North School":MAILTO:Megan@levinnorth.school.nz
END:VEVENT
END:VCALENDAR