BEGIN:VCALENDAR
VERSION:2.0
PRODID:-//Keep New Zealand Beautiful - ECPv6.10.1.1//NONSGML v1.0//EN
CALSCALE:GREGORIAN
METHOD:PUBLISH
X-WR-CALNAME:Keep New Zealand Beautiful
X-ORIGINAL-URL:https://www.knzb.org.nz
X-WR-CALDESC:Events for Keep New Zealand Beautiful
REFRESH-INTERVAL;VALUE=DURATION:PT1H
X-Robots-Tag:noindex
X-PUBLISHED-TTL:PT1H
BEGIN:VTIMEZONE
TZID:Pacific/Auckland
BEGIN:STANDARD
TZOFFSETFROM:+1300
TZOFFSETTO:+1200
TZNAME:NZST
DTSTART:20210403T140000
END:STANDARD
BEGIN:DAYLIGHT
TZOFFSETFROM:+1200
TZOFFSETTO:+1300
TZNAME:NZDT
DTSTART:20210925T140000
END:DAYLIGHT
END:VTIMEZONE
BEGIN:VEVENT
DTSTART;TZID=Pacific/Auckland:20210914T110000
DTEND;TZID=Pacific/Auckland:20210914T123000
DTSTAMP:20260424T152215
CREATED:20210817T012305Z
LAST-MODIFIED:20210817T012306Z
UID:13607-1631617200-1631622600@www.knzb.org.nz
SUMMARY:Kaitiakitanga Opotiki School
DESCRIPTION:Join this Clean Up Week 2021 event.
URL:https://www.knzb.org.nz/event/kaitiakitanga-opotiki-school/
LOCATION:Opotiki Primary School\, Church Street\, Opotiki\, 3122
CATEGORIES:Clean Up Week 2021
ATTACH;FMTTYPE=image/jpeg:https://www.knzb.org.nz/wp-content/uploads/2021/02/Community-event-web-tile-1.jpg
ORGANIZER;CN="Opotiki Primary School":MAILTO:ddunn@opotiki.school.nz
END:VEVENT
END:VCALENDAR