BEGIN:VCALENDAR
VERSION:2.0
PRODID:-//Keep New Zealand Beautiful - ECPv6.10.1.1//NONSGML v1.0//EN
CALSCALE:GREGORIAN
METHOD:PUBLISH
X-WR-CALNAME:Keep New Zealand Beautiful
X-ORIGINAL-URL:https://www.knzb.org.nz
X-WR-CALDESC:Events for Keep New Zealand Beautiful
REFRESH-INTERVAL;VALUE=DURATION:PT1H
X-Robots-Tag:noindex
X-PUBLISHED-TTL:PT1H
BEGIN:VTIMEZONE
TZID:Pacific/Auckland
BEGIN:STANDARD
TZOFFSETFROM:+1300
TZOFFSETTO:+1200
TZNAME:NZST
DTSTART:20210403T140000
END:STANDARD
BEGIN:DAYLIGHT
TZOFFSETFROM:+1200
TZOFFSETTO:+1300
TZNAME:NZDT
DTSTART:20210925T140000
END:DAYLIGHT
END:VTIMEZONE
BEGIN:VEVENT
DTSTART;TZID=Pacific/Auckland:20210911T090000
DTEND;TZID=Pacific/Auckland:20210911T110000
DTSTAMP:20260424T152214
CREATED:20210815T212925Z
LAST-MODIFIED:20210815T212928Z
UID:13517-1631350800-1631358000@www.knzb.org.nz
SUMMARY:Waipawa Spring Clean
DESCRIPTION:A community emu parade. Picking up the rubbish the not so “tidy kiwis” leave behind in Waipawa. Area covered will depend on volunteers on the day. The event will occur rain\, hail or shine just bring a coat.
URL:https://www.knzb.org.nz/event/waipawa-spring-clean/
LOCATION:Nelly Jull Park Band Rotunda\, Islington Drive\, Waipawa\, 4210\, New Zealand
CATEGORIES:Clean Up Week 2021
ATTACH;FMTTYPE=image/jpeg:https://www.knzb.org.nz/wp-content/uploads/2021/08/Waipawa.jpg
ORGANIZER;CN="Pip Burne":MAILTO:pip.burne@gmail.com
END:VEVENT
END:VCALENDAR