BEGIN:VCALENDAR
VERSION:2.0
PRODID:-//Keep New Zealand Beautiful - ECPv6.10.1.1//NONSGML v1.0//EN
CALSCALE:GREGORIAN
METHOD:PUBLISH
X-WR-CALNAME:Keep New Zealand Beautiful
X-ORIGINAL-URL:https://www.knzb.org.nz
X-WR-CALDESC:Events for Keep New Zealand Beautiful
REFRESH-INTERVAL;VALUE=DURATION:PT1H
X-Robots-Tag:noindex
X-PUBLISHED-TTL:PT1H
BEGIN:VTIMEZONE
TZID:Pacific/Auckland
BEGIN:STANDARD
TZOFFSETFROM:+1300
TZOFFSETTO:+1200
TZNAME:NZST
DTSTART:20210403T140000
END:STANDARD
BEGIN:DAYLIGHT
TZOFFSETFROM:+1200
TZOFFSETTO:+1300
TZNAME:NZDT
DTSTART:20210925T140000
END:DAYLIGHT
END:VTIMEZONE
BEGIN:VEVENT
DTSTART;TZID=Pacific/Auckland:20210819T080000
DTEND;TZID=Pacific/Auckland:20210819T170000
DTSTAMP:20260424T165304
CREATED:20210823T024735Z
LAST-MODIFIED:20210823T024740Z
UID:13697-1629360000-1629392400@www.knzb.org.nz
SUMMARY:Newlands Tamariki Playcentre kids’ clean up day
DESCRIPTION:We will walk from Playcentre at 134 Newlands Road to Pukehuia Park\, collecting all the rubbish we find along the way.\nWednesday is our bilingual session\, so we’ll learn relevant phrases and kupu along the way. We will be back at Playcentre at 12pm. \nFamilies are welcome to join us\, please come along to the centre at 10.30.
URL:https://www.knzb.org.nz/event/newlands-tamariki-playcentre-kids-clean-up-day-2/
LOCATION:Newlands Tamariki Playcentre\, 134 Newlands Road\, Wellington\, 6037\, New Zealand
CATEGORIES:Clean Up Week 2021
ATTACH;FMTTYPE=image/jpeg:https://www.knzb.org.nz/wp-content/uploads/2021/02/Community-event-web-tile-1.jpg
ORGANIZER;CN="Harriet":MAILTO:newlandstamariki@playcentre.org.nz
END:VEVENT
END:VCALENDAR